BEGIN:VCALENDAR
VERSION:2.0
PRODID:-// - ECPv6.15.18//NONSGML v1.0//EN
CALSCALE:GREGORIAN
METHOD:PUBLISH
X-ORIGINAL-URL:https://stnicholasmtl.com
X-WR-CALDESC:Events for 
REFRESH-INTERVAL;VALUE=DURATION:PT1H
X-Robots-Tag:noindex
X-PUBLISHED-TTL:PT1H
BEGIN:VTIMEZONE
TZID:America/New_York
BEGIN:DAYLIGHT
TZOFFSETFROM:-0500
TZOFFSETTO:-0400
TZNAME:EDT
DTSTART:20230312T070000
END:DAYLIGHT
BEGIN:STANDARD
TZOFFSETFROM:-0400
TZOFFSETTO:-0500
TZNAME:EST
DTSTART:20231105T060000
END:STANDARD
BEGIN:DAYLIGHT
TZOFFSETFROM:-0500
TZOFFSETTO:-0400
TZNAME:EDT
DTSTART:20240310T070000
END:DAYLIGHT
BEGIN:STANDARD
TZOFFSETFROM:-0400
TZOFFSETTO:-0500
TZNAME:EST
DTSTART:20241103T060000
END:STANDARD
BEGIN:DAYLIGHT
TZOFFSETFROM:-0500
TZOFFSETTO:-0400
TZNAME:EDT
DTSTART:20250309T070000
END:DAYLIGHT
BEGIN:STANDARD
TZOFFSETFROM:-0400
TZOFFSETTO:-0500
TZNAME:EST
DTSTART:20251102T060000
END:STANDARD
END:VTIMEZONE
BEGIN:VEVENT
DTSTART;TZID=America/New_York:20241026T163000
DTEND;TZID=America/New_York:20241026T183000
DTSTAMP:20260423T220827
CREATED:20241024T023409Z
LAST-MODIFIED:20241024T023612Z
UID:5129-1729960200-1729967400@stnicholasmtl.com
SUMMARY:Saint Raphael Fellowship - Arabic
DESCRIPTION:The Saint Raphael Arabic Fellowship will be talking about the Orthodox Church’s understanding of Martyrdom\, presented by brother Sam Shammas\, followed by vespers
URL:https://stnicholasmtl.com/event/saint-raphael-fellowship-arabic/
LOCATION:Saint Nicholas Antiochian Orthodox Church\, 80 Rue de Castelnau E\, Montreal\, QC\, H2R 1P2\, Canada
ATTACH;FMTTYPE=image/jpeg:https://stnicholasmtl.com/wp-content/uploads/2024/10/Saint-Dimitrios-e1729737240316.jpg
END:VEVENT
BEGIN:VEVENT
DTSTART;TZID=America/New_York:20241019T163000
DTEND;TZID=America/New_York:20241019T180000
DTSTAMP:20260423T220827
CREATED:20241016T224039Z
LAST-MODIFIED:20241016T224214Z
UID:5110-1729355400-1729360800@stnicholasmtl.com
SUMMARY:Saint Raphael Fellowship - English
DESCRIPTION:Book study on “Of Water and the Spirit” by Fr. Alexander Schmemann\, chapter 1 in Church Hall.
URL:https://stnicholasmtl.com/event/saint-raphael-fellowship-english/
LOCATION:Saint Nicholas Antiochian Orthodox Church\, 80 Rue de Castelnau E\, Montreal\, QC\, H2R 1P2\, Canada
ATTACH;FMTTYPE=image/png:https://stnicholasmtl.com/wp-content/uploads/2024/10/Saint-Raphael-Fellowship-English.png
END:VEVENT
BEGIN:VEVENT
DTSTART;TZID=America/New_York:20241001T190000
DTEND;TZID=America/New_York:20241001T190000
DTSTAMP:20260423T220827
CREATED:20240929T003409Z
LAST-MODIFIED:20240929T003559Z
UID:5072-1727809200-1727809200@stnicholasmtl.com
SUMMARY:Akathist to the Theotokos
DESCRIPTION:You can find a pdf copy of the prayer text by clicking here
URL:https://stnicholasmtl.com/event/akathist-to-the-theotokos/
LOCATION:Saint Nicholas Antiochian Orthodox Church\, 80 Rue de Castelnau E\, Montreal\, QC\, H2R 1P2\, Canada
ATTACH;FMTTYPE=image/png:https://stnicholasmtl.com/wp-content/uploads/2024/09/Screen-Shot-2024-09-28-at-7.55.06-PM.png
END:VEVENT
BEGIN:VEVENT
DTSTART;TZID=America/New_York:20240825T120000
DTEND;TZID=America/New_York:20240825T120000
DTSTAMP:20260423T220827
CREATED:20240824T135417Z
LAST-MODIFIED:20240824T135456Z
UID:5045-1724587200-1724587200@stnicholasmtl.com
SUMMARY:BBQ
DESCRIPTION:Sandwich Trio 10$ \nGrill Platter 15$
URL:https://stnicholasmtl.com/event/bbq/
LOCATION:Saint Nicholas Antiochian Orthodox Church\, 80 Rue de Castelnau E\, Montreal\, QC\, H2R 1P2\, Canada
ATTACH;FMTTYPE=image/jpeg:https://stnicholasmtl.com/wp-content/uploads/2024/08/BBQ1.jpg
END:VEVENT
BEGIN:VEVENT
DTSTART;TZID=America/New_York:20240809T190000
DTEND;TZID=America/New_York:20240809T190000
DTSTAMP:20260423T220827
CREATED:20240724T022709Z
LAST-MODIFIED:20240724T022709Z
UID:4955-1723230000-1723230000@stnicholasmtl.com
SUMMARY:Paraklesis to the Theotokos
DESCRIPTION:
URL:https://stnicholasmtl.com/event/paraklesis-to-the-theotokos-2/
LOCATION:Saint Nicholas Antiochian Orthodox Church\, 80 Rue de Castelnau E\, Montreal\, QC\, H2R 1P2\, Canada
END:VEVENT
BEGIN:VEVENT
DTSTART;TZID=America/New_York:20240806T090000
DTEND;TZID=America/New_York:20240806T090000
DTSTAMP:20260423T220827
CREATED:20240724T022822Z
LAST-MODIFIED:20240724T022822Z
UID:4957-1722934800-1722934800@stnicholasmtl.com
SUMMARY:Feast of the Transfiguration
DESCRIPTION:
URL:https://stnicholasmtl.com/event/feast-of-the-transfiguration/
LOCATION:Saint Nicholas Antiochian Orthodox Church\, 80 Rue de Castelnau E\, Montreal\, QC\, H2R 1P2\, Canada
END:VEVENT
BEGIN:VEVENT
DTSTART;TZID=America/New_York:20240803T080000
DTEND;TZID=America/New_York:20240803T170000
DTSTAMP:20260423T220827
CREATED:20240729T022214Z
LAST-MODIFIED:20240729T022300Z
UID:4983-1722672000-1722704400@stnicholasmtl.com
SUMMARY:Visit to the Holy Monastery of Virgin Mary the Consolatory
DESCRIPTION:
URL:https://stnicholasmtl.com/event/visit-to-the-holy-monastery-of-virgin-mary-the-consolatory/
LOCATION:Holy Monastery of Virgin Mary the Consolatory\, 827 Chemin de la Carrière\, Brownsburg-Chatham\, QC\, J8G 1K7
ATTACH;FMTTYPE=image/jpeg:https://stnicholasmtl.com/wp-content/uploads/2024/07/Monasterevmc-e1722219729787.jpg
END:VEVENT
BEGIN:VEVENT
DTSTART;TZID=America/New_York:20240802T190000
DTEND;TZID=America/New_York:20240802T190000
DTSTAMP:20260423T220827
CREATED:20240724T022631Z
LAST-MODIFIED:20240724T022631Z
UID:4953-1722625200-1722625200@stnicholasmtl.com
SUMMARY:Paraklesis to the Theotokos
DESCRIPTION:
URL:https://stnicholasmtl.com/event/paraklesis-to-the-theotokos/
LOCATION:Saint Nicholas Antiochian Orthodox Church\, 80 Rue de Castelnau E\, Montreal\, QC\, H2R 1P2\, Canada
END:VEVENT
BEGIN:VEVENT
DTSTART;TZID=America/New_York:20240728T120000
DTEND;TZID=America/New_York:20240728T120000
DTSTAMP:20260423T220827
CREATED:20240724T023110Z
LAST-MODIFIED:20240724T023110Z
UID:4959-1722168000-1722168000@stnicholasmtl.com
SUMMARY:PLC Appreciation Lunch
DESCRIPTION:
URL:https://stnicholasmtl.com/event/plc-appreciation-lunch/
LOCATION:Saint Nicholas Antiochian Orthodox Church\, 80 Rue de Castelnau E\, Montreal\, QC\, H2R 1P2\, Canada
ATTACH;FMTTYPE=image/jpeg:https://stnicholasmtl.com/wp-content/uploads/2024/07/451802628_804700575178025_4361695423581618882_n.jpg
END:VEVENT
BEGIN:VEVENT
DTSTART;TZID=America/New_York:20240728T090000
DTEND;TZID=America/New_York:20240728T090000
DTSTAMP:20260423T220827
CREATED:20240724T022522Z
LAST-MODIFIED:20240724T022522Z
UID:4951-1722157200-1722157200@stnicholasmtl.com
SUMMARY:Divine Liturgy
DESCRIPTION:
URL:https://stnicholasmtl.com/event/divine-liturgy/
LOCATION:Saint Nicholas Antiochian Orthodox Church\, 80 Rue de Castelnau E\, Montreal\, QC\, H2R 1P2\, Canada
END:VEVENT
BEGIN:VEVENT
DTSTART;TZID=America/New_York:20240505T130000
DTEND;TZID=America/New_York:20240505T130000
DTSTAMP:20260423T220827
CREATED:20240331T193450Z
LAST-MODIFIED:20240331T193450Z
UID:4722-1714914000-1714914000@stnicholasmtl.com
SUMMARY:Agape Vespers 1pm
DESCRIPTION:
URL:https://stnicholasmtl.com/event/agape-vespers-1pm/
LOCATION:Saint Nicholas Antiochian Orthodox Church\, 80 Rue de Castelnau E\, Montreal\, QC\, H2R 1P2\, Canada
END:VEVENT
BEGIN:VEVENT
DTSTART;TZID=America/New_York:20240504T220000
DTEND;TZID=America/New_York:20240504T220000
DTSTAMP:20260423T220827
CREATED:20240331T193414Z
LAST-MODIFIED:20240331T193414Z
UID:4720-1714860000-1714860000@stnicholasmtl.com
SUMMARY:Paschal Vigil 10pm
DESCRIPTION:
URL:https://stnicholasmtl.com/event/paschal-vigil-10pm/
LOCATION:Saint Nicholas Antiochian Orthodox Church\, 80 Rue de Castelnau E\, Montreal\, QC\, H2R 1P2\, Canada
END:VEVENT
BEGIN:VEVENT
DTSTART;TZID=America/New_York:20240504T090000
DTEND;TZID=America/New_York:20240504T090000
DTSTAMP:20260423T220827
CREATED:20240331T193341Z
LAST-MODIFIED:20240331T193341Z
UID:4718-1714813200-1714813200@stnicholasmtl.com
SUMMARY:9am Vesperal Divine Liturgy
DESCRIPTION:
URL:https://stnicholasmtl.com/event/9am-vesperal-divine-liturgy/
LOCATION:Saint Nicholas Antiochian Orthodox Church\, 80 Rue de Castelnau E\, Montreal\, QC\, H2R 1P2\, Canada
END:VEVENT
BEGIN:VEVENT
DTSTART;TZID=America/New_York:20240503T190000
DTEND;TZID=America/New_York:20240503T190000
DTSTAMP:20260423T220828
CREATED:20240430T210231Z
LAST-MODIFIED:20240430T210231Z
UID:4777-1714762800-1714762800@stnicholasmtl.com
SUMMARY:Lamentation Service 7pm
DESCRIPTION:
URL:https://stnicholasmtl.com/event/lamentation-service-7pm/
LOCATION:Saint Nicholas Antiochian Orthodox Church\, 80 Rue de Castelnau E\, Montreal\, QC\, H2R 1P2\, Canada
END:VEVENT
BEGIN:VEVENT
DTSTART;TZID=America/New_York:20240503T090000
DTEND;TZID=America/New_York:20240503T090000
DTSTAMP:20260423T220828
CREATED:20240331T193228Z
LAST-MODIFIED:20240331T193228Z
UID:4714-1714726800-1714726800@stnicholasmtl.com
SUMMARY:Royal Hours Paramon 9am
DESCRIPTION:
URL:https://stnicholasmtl.com/event/royal-hours-paramon-9am/
LOCATION:Saint Nicholas Antiochian Orthodox Church\, 80 Rue de Castelnau E\, Montreal\, QC\, H2R 1P2\, Canada
END:VEVENT
BEGIN:VEVENT
DTSTART;TZID=America/New_York:20240502T190000
DTEND;TZID=America/New_York:20240502T190000
DTSTAMP:20260423T220828
CREATED:20240331T193148Z
LAST-MODIFIED:20240430T205737Z
UID:4712-1714676400-1714676400@stnicholasmtl.com
SUMMARY:Holy Passion 7pm
DESCRIPTION:
URL:https://stnicholasmtl.com/event/holy-passion-7pm/
LOCATION:Saint Nicholas Antiochian Orthodox Church\, 80 Rue de Castelnau E\, Montreal\, QC\, H2R 1P2\, Canada
END:VEVENT
BEGIN:VEVENT
DTSTART;TZID=America/New_York:20240502T090000
DTEND;TZID=America/New_York:20240502T090000
DTSTAMP:20260423T220828
CREATED:20240331T193120Z
LAST-MODIFIED:20240331T193120Z
UID:4710-1714640400-1714640400@stnicholasmtl.com
SUMMARY:Mystical Supper D. Liturgy 9am
DESCRIPTION:
URL:https://stnicholasmtl.com/event/mystical-supper-d-liturgy-9am/
LOCATION:Saint Nicholas Antiochian Orthodox Church\, 80 Rue de Castelnau E\, Montreal\, QC\, H2R 1P2\, Canada
END:VEVENT
BEGIN:VEVENT
DTSTART;TZID=America/New_York:20240501T190000
DTEND;TZID=America/New_York:20240501T190000
DTSTAMP:20260423T220828
CREATED:20240331T193042Z
LAST-MODIFIED:20240430T205707Z
UID:4708-1714590000-1714590000@stnicholasmtl.com
SUMMARY:Holy Unction 7pm
DESCRIPTION:
URL:https://stnicholasmtl.com/event/holy-unction-7pm/
LOCATION:Saint Nicholas Antiochian Orthodox Church\, 80 Rue de Castelnau E\, Montreal\, QC\, H2R 1P2\, Canada
END:VEVENT
BEGIN:VEVENT
DTSTART;TZID=America/New_York:20240430T190000
DTEND;TZID=America/New_York:20240430T190000
DTSTAMP:20260423T220828
CREATED:20240331T193007Z
LAST-MODIFIED:20240430T205532Z
UID:4706-1714503600-1714503600@stnicholasmtl.com
SUMMARY:3nd Bridegroom 7pm
DESCRIPTION:
URL:https://stnicholasmtl.com/event/3nd-bridegroom-7pm/
LOCATION:Saint Nicholas Antiochian Orthodox Church\, 80 Rue de Castelnau E\, Montreal\, QC\, H2R 1P2\, Canada
END:VEVENT
BEGIN:VEVENT
DTSTART;TZID=America/New_York:20240429T190000
DTEND;TZID=America/New_York:20240429T190000
DTSTAMP:20260423T220828
CREATED:20240331T192933Z
LAST-MODIFIED:20240430T205600Z
UID:4704-1714417200-1714417200@stnicholasmtl.com
SUMMARY:2nd Bridegroom 7pm
DESCRIPTION:
URL:https://stnicholasmtl.com/event/2nd-bridegroom-7pm/
LOCATION:Saint Nicholas Antiochian Orthodox Church\, 80 Rue de Castelnau E\, Montreal\, QC\, H2R 1P2\, Canada
END:VEVENT
BEGIN:VEVENT
DTSTART;TZID=America/New_York:20240428T190000
DTEND;TZID=America/New_York:20240428T190000
DTSTAMP:20260423T220828
CREATED:20240331T192331Z
LAST-MODIFIED:20240430T205632Z
UID:4702-1714330800-1714330800@stnicholasmtl.com
SUMMARY:1st Bridegroom 7pm
DESCRIPTION:
URL:https://stnicholasmtl.com/event/1st-bridegroom-7pm/
LOCATION:Saint Nicholas Antiochian Orthodox Church\, 80 Rue de Castelnau E\, Montreal\, QC\, H2R 1P2\, Canada
END:VEVENT
BEGIN:VEVENT
DTSTART;TZID=America/New_York:20240428T090000
DTEND;TZID=America/New_York:20240428T090000
DTSTAMP:20260423T220828
CREATED:20240331T192250Z
LAST-MODIFIED:20240331T192250Z
UID:4700-1714294800-1714294800@stnicholasmtl.com
SUMMARY:PALM SUNDAY 9am Orthros & D. Liturgy
DESCRIPTION:
URL:https://stnicholasmtl.com/event/palm-sunday-9am-orthros-d-liturgy/
LOCATION:Saint Nicholas Antiochian Orthodox Church\, 80 Rue de Castelnau E\, Montreal\, QC\, H2R 1P2\, Canada
END:VEVENT
BEGIN:VEVENT
DTSTART;TZID=America/New_York:20240428T003000
DTEND;TZID=America/New_York:20240428T123000
DTSTAMP:20260423T220828
CREATED:20240426T012055Z
LAST-MODIFIED:20240426T012055Z
UID:4765-1714264200-1714307400@stnicholasmtl.com
SUMMARY:Easter Bake Sale - Following the Divine Liturgy!
DESCRIPTION:
URL:https://stnicholasmtl.com/event/easter-bake-sale-following-the-divine-liturgy/
LOCATION:Saint Nicholas Antiochian Orthodox Church\, 80 Rue de Castelnau E\, Montreal\, QC\, H2R 1P2\, Canada
ATTACH;FMTTYPE=image/png:https://stnicholasmtl.com/wp-content/uploads/2024/04/Screen-Shot-2024-04-25-at-4.29.17-PM.png
END:VEVENT
BEGIN:VEVENT
DTSTART;TZID=America/New_York:20240427T180000
DTEND;TZID=America/New_York:20240427T180000
DTSTAMP:20260423T220828
CREATED:20240331T192141Z
LAST-MODIFIED:20240331T192141Z
UID:4698-1714240800-1714240800@stnicholasmtl.com
SUMMARY:Vespers 6pm
DESCRIPTION:
URL:https://stnicholasmtl.com/event/vespers-6pm-8/
LOCATION:Saint Nicholas Antiochian Orthodox Church\, 80 Rue de Castelnau E\, Montreal\, QC\, H2R 1P2\, Canada
END:VEVENT
BEGIN:VEVENT
DTSTART;TZID=America/New_York:20240427T090000
DTEND;TZID=America/New_York:20240427T090000
DTSTAMP:20260423T220828
CREATED:20240331T192107Z
LAST-MODIFIED:20240331T192107Z
UID:4696-1714208400-1714208400@stnicholasmtl.com
SUMMARY:9am Orthros & D. Liturgy
DESCRIPTION:
URL:https://stnicholasmtl.com/event/9am-orthros-d-liturgy/
LOCATION:Saint Nicholas Antiochian Orthodox Church\, 80 Rue de Castelnau E\, Montreal\, QC\, H2R 1P2\, Canada
END:VEVENT
BEGIN:VEVENT
DTSTART;TZID=America/New_York:20240426T180000
DTEND;TZID=America/New_York:20240426T180000
DTSTAMP:20260423T220828
CREATED:20240331T190355Z
LAST-MODIFIED:20240331T190355Z
UID:4688-1714154400-1714154400@stnicholasmtl.com
SUMMARY:Compline & St. Lazarus Canon 6pm
DESCRIPTION:
URL:https://stnicholasmtl.com/event/compline-st-lazarus-canon-6pm/
LOCATION:Saint Nicholas Antiochian Orthodox Church\, 80 Rue de Castelnau E\, Montreal\, QC\, H2R 1P2\, Canada
END:VEVENT
BEGIN:VEVENT
DTSTART;TZID=America/New_York:20240425T180000
DTEND;TZID=America/New_York:20240425T180000
DTSTAMP:20260423T220828
CREATED:20240331T185939Z
LAST-MODIFIED:20240331T190035Z
UID:4678-1714068000-1714068000@stnicholasmtl.com
SUMMARY:Presanctified D. Liturgy 6pm
DESCRIPTION:
URL:https://stnicholasmtl.com/event/great-compline-6pm-6/
LOCATION:Saint Nicholas Antiochian Orthodox Church\, 80 Rue de Castelnau E\, Montreal\, QC\, H2R 1P2\, Canada
END:VEVENT
BEGIN:VEVENT
DTSTART;TZID=America/New_York:20240424T180000
DTEND;TZID=America/New_York:20240424T180000
DTSTAMP:20260423T220828
CREATED:20240331T185730Z
LAST-MODIFIED:20240331T185730Z
UID:4670-1713981600-1713981600@stnicholasmtl.com
SUMMARY:Presanctified D. Liturgy 6pm
DESCRIPTION:
URL:https://stnicholasmtl.com/event/presanctified-d-liturgy-6pm-5/
LOCATION:Saint Nicholas Antiochian Orthodox Church\, 80 Rue de Castelnau E\, Montreal\, QC\, H2R 1P2\, Canada
END:VEVENT
BEGIN:VEVENT
DTSTART;TZID=America/New_York:20240420T180000
DTEND;TZID=America/New_York:20240420T180000
DTSTAMP:20260423T220828
CREATED:20240331T192015Z
LAST-MODIFIED:20240331T192015Z
UID:4694-1713636000-1713636000@stnicholasmtl.com
SUMMARY:Vespers 6pm
DESCRIPTION:
URL:https://stnicholasmtl.com/event/vespers-6pm-7/
LOCATION:Saint Nicholas Antiochian Orthodox Church\, 80 Rue de Castelnau E\, Montreal\, QC\, H2R 1P2\, Canada
END:VEVENT
BEGIN:VEVENT
DTSTART;TZID=America/New_York:20240419T180000
DTEND;TZID=America/New_York:20240419T180000
DTSTAMP:20260423T220828
CREATED:20240331T190318Z
LAST-MODIFIED:20240331T190318Z
UID:4686-1713549600-1713549600@stnicholasmtl.com
SUMMARY:5th Akathist 6pm
DESCRIPTION:
URL:https://stnicholasmtl.com/event/5th-akathist-6pm/
LOCATION:Saint Nicholas Antiochian Orthodox Church\, 80 Rue de Castelnau E\, Montreal\, QC\, H2R 1P2\, Canada
END:VEVENT
END:VCALENDAR