BEGIN:VCALENDAR
VERSION:2.0
PRODID:-// - ECPv6.15.18//NONSGML v1.0//EN
CALSCALE:GREGORIAN
METHOD:PUBLISH
X-ORIGINAL-URL:https://stnicholasmtl.com
X-WR-CALDESC:Events for 
REFRESH-INTERVAL;VALUE=DURATION:PT1H
X-Robots-Tag:noindex
X-PUBLISHED-TTL:PT1H
BEGIN:VTIMEZONE
TZID:America/New_York
BEGIN:DAYLIGHT
TZOFFSETFROM:-0500
TZOFFSETTO:-0400
TZNAME:EDT
DTSTART:20240310T070000
END:DAYLIGHT
BEGIN:STANDARD
TZOFFSETFROM:-0400
TZOFFSETTO:-0500
TZNAME:EST
DTSTART:20241103T060000
END:STANDARD
BEGIN:DAYLIGHT
TZOFFSETFROM:-0500
TZOFFSETTO:-0400
TZNAME:EDT
DTSTART:20250309T070000
END:DAYLIGHT
BEGIN:STANDARD
TZOFFSETFROM:-0400
TZOFFSETTO:-0500
TZNAME:EST
DTSTART:20251102T060000
END:STANDARD
BEGIN:DAYLIGHT
TZOFFSETFROM:-0500
TZOFFSETTO:-0400
TZNAME:EDT
DTSTART:20260308T070000
END:DAYLIGHT
BEGIN:STANDARD
TZOFFSETFROM:-0400
TZOFFSETTO:-0500
TZNAME:EST
DTSTART:20261101T060000
END:STANDARD
END:VTIMEZONE
BEGIN:VEVENT
DTSTART;TZID=America/New_York:20250414T190000
DTEND;TZID=America/New_York:20250414T190000
DTSTAMP:20260423T135034
CREATED:20250412T025107Z
LAST-MODIFIED:20250412T032815Z
UID:5636-1744657200-1744657200@stnicholasmtl.com
SUMMARY:2nd Bridegroom Service
DESCRIPTION:Bilingual – Bridegroom Orthros (PDF)
URL:https://stnicholasmtl.com/event/2nd-bridegroom-service/
LOCATION:Saint Nicholas Antiochian Orthodox Church\, 80 Rue de Castelnau E\, Montreal\, QC\, H2R 1P2\, Canada
END:VEVENT
BEGIN:VEVENT
DTSTART;TZID=America/New_York:20250414T100000
DTEND;TZID=America/New_York:20250414T100000
DTSTAMP:20260423T135034
CREATED:20250412T025416Z
LAST-MODIFIED:20250412T032930Z
UID:5640-1744624800-1744624800@stnicholasmtl.com
SUMMARY:Presanctified Divine Liturgy
DESCRIPTION:Bilingual – Presanctified Divine Liturgy (PDF)
URL:https://stnicholasmtl.com/event/presanctified-divine-liturgy/
LOCATION:Saint Nicholas Antiochian Orthodox Church\, 80 Rue de Castelnau E\, Montreal\, QC\, H2R 1P2\, Canada
END:VEVENT
BEGIN:VEVENT
DTSTART;TZID=America/New_York:20250413T190000
DTEND;TZID=America/New_York:20250413T190000
DTSTAMP:20260423T135034
CREATED:20250412T025007Z
LAST-MODIFIED:20250412T032745Z
UID:5634-1744570800-1744570800@stnicholasmtl.com
SUMMARY:1st Bridegroom Service
DESCRIPTION:Bilingual – Bridegroom Orthros (PDF)
URL:https://stnicholasmtl.com/event/1st-bridegroom-service/
LOCATION:Saint Nicholas Antiochian Orthodox Church\, 80 Rue de Castelnau E\, Montreal\, QC\, H2R 1P2\, Canada
END:VEVENT
BEGIN:VEVENT
DTSTART;TZID=America/New_York:20250413T090000
DTEND;TZID=America/New_York:20250413T090000
DTSTAMP:20260423T135034
CREATED:20250412T024846Z
LAST-MODIFIED:20250412T032712Z
UID:5632-1744534800-1744534800@stnicholasmtl.com
SUMMARY:Palm Sunday
DESCRIPTION:Bilingual – Sunday Orthros (PDF) \n\nBilingual – Divine Liturgy Variables (PDF)
URL:https://stnicholasmtl.com/event/palm-sunday/
LOCATION:Saint Nicholas Antiochian Orthodox Church\, 80 Rue de Castelnau E\, Montreal\, QC\, H2R 1P2\, Canada
END:VEVENT
BEGIN:VEVENT
DTSTART;TZID=America/New_York:20250412T110000
DTEND;TZID=America/New_York:20250412T110000
DTSTAMP:20260423T135034
CREATED:20250412T024725Z
LAST-MODIFIED:20250412T032600Z
UID:5630-1744455600-1744455600@stnicholasmtl.com
SUMMARY:Lazarus Saturday
DESCRIPTION:Bilingual – Daily Orthros (PDF)\n\nBilingual – Divine Liturgy Variables (PDF)
URL:https://stnicholasmtl.com/event/lazarus-saturday/
LOCATION:Saint Nicholas Antiochian Orthodox Church\, 80 Rue de Castelnau E\, Montreal\, QC\, H2R 1P2\, Canada
END:VEVENT
BEGIN:VEVENT
DTSTART;TZID=America/New_York:20250410T190000
DTEND;TZID=America/New_York:20250410T190000
DTSTAMP:20260423T135034
CREATED:20250301T175005Z
LAST-MODIFIED:20250304T025045Z
UID:5528-1744311600-1744311600@stnicholasmtl.com
SUMMARY:Great Compline
DESCRIPTION:Great Compline in Great Lent – Full Text (Bilingual PDF)
URL:https://stnicholasmtl.com/event/great-compline-4/
LOCATION:Saint Nicholas Antiochian Orthodox Church\, 80 Rue de Castelnau E\, Montreal\, QC\, H2R 1P2\, Canada
END:VEVENT
BEGIN:VEVENT
DTSTART;TZID=America/New_York:20250409T080000
DTEND;TZID=America/New_York:20250409T170000
DTSTAMP:20260423T135034
CREATED:20250301T175816Z
LAST-MODIFIED:20250301T175816Z
UID:5540-1744185600-1744218000@stnicholasmtl.com
SUMMARY:Presanctified Divine Liturgy
DESCRIPTION:Presanctified Divine Liturgy – Full Text Bilingual (PDF)
URL:https://stnicholasmtl.com/event/presanctified-divine-liturgy-8/
LOCATION:Saint Nicholas Antiochian Orthodox Church\, 80 Rue de Castelnau E\, Montreal\, QC\, H2R 1P2\, Canada
END:VEVENT
BEGIN:VEVENT
DTSTART;TZID=America/New_York:20250403T190000
DTEND;TZID=America/New_York:20250403T190000
DTSTAMP:20260423T135034
CREATED:20250303T174720Z
LAST-MODIFIED:20250304T025139Z
UID:5523-1743706800-1743706800@stnicholasmtl.com
SUMMARY:Great Compline
DESCRIPTION:Great Compline in Great Lent – Full Text (Bilingual PDF)
URL:https://stnicholasmtl.com/event/great-compline-2/
LOCATION:Saint Nicholas Antiochian Orthodox Church\, 80 Rue de Castelnau E\, Montreal\, QC\, H2R 1P2\, Canada
END:VEVENT
BEGIN:VEVENT
DTSTART;TZID=America/New_York:20250402T190000
DTEND;TZID=America/New_York:20250402T190000
DTSTAMP:20260423T135034
CREATED:20250301T175742Z
LAST-MODIFIED:20250301T175742Z
UID:5538-1743620400-1743620400@stnicholasmtl.com
SUMMARY:Presanctified Divine Liturgy
DESCRIPTION:Presanctified Divine Liturgy – Full Text Bilingual (PDF)
URL:https://stnicholasmtl.com/event/presanctified-divine-liturgy-7/
LOCATION:Saint Nicholas Antiochian Orthodox Church\, 80 Rue de Castelnau E\, Montreal\, QC\, H2R 1P2\, Canada
END:VEVENT
BEGIN:VEVENT
DTSTART;TZID=America/New_York:20250330T090000
DTEND;TZID=America/New_York:20250330T090000
DTSTAMP:20260423T135034
CREATED:20250301T173139Z
LAST-MODIFIED:20250301T173139Z
UID:5504-1743325200-1743325200@stnicholasmtl.com
SUMMARY:Orthros and Divine Liturgy - Sunday of St. John Climacus
DESCRIPTION:THE EPISTLE \nThe Lord will give strength to His people. \nAscribe to the Lord\, O sons of God\, ascribe to the Lord glory and honor. \nThe Reading from the Epistle of St. Paul to the Hebrews. (6:13-20) \nBrethren\, when God made a promise to Abraham\, since He could swear by no one greater\, He swore by Himself\, saying\, “Surely blessing I will bless thee\, and multiplying I will multiply thee.” And thus\, having patiently endured\, he obtained the promise. For people indeed swear by what is greater\, and in every dispute of theirs the oath is final for confirmation. So when God\, being minded to show more abundantly to the heirs of the promise the immutability of His counsel\, He interposed it with an oath\, that by two immutable things—in which it is impossible for God to lie—we might have a strong consolation\, we\, who have fled for refuge to lay hold of the hope that is set before us; a hope\, which we have as an anchor of the soul\, both sure and steadfast\, and entering into “that which is within the veil\,” where Jesus entered as a Forerunner on our behalf\, having become a High Priest “forever according to the order of Melchizedek.” \nTHE GOSPEL \nThe Reading from the Holy Gospel according to St. Mark. (9:17-31) \nAt that time\, a man came to Jesus\, kneeling down and saying unto him\, “Teacher\, I brought my son to you\, for he has a dumb spirit. And wherever it seizes him\, it dashes him down; and he foams and grinds his teeth and becomes rigid; and I asked Thy Disciples to cast it out\, and they were not able.” And Jesus answered them\, “O faithless generation\, how long am I to be with you? How long am I to bear with you? Bring him to Me.” And they brought the boy to Him; and when the spirit saw Jesus\, immediately it convulsed the boy\, and he fell on the ground and rolled about\, foaming at the mouth. And Jesus asked his father\, “How long has he had this?” And he said\, “From childhood. And it has often cast him into the fire and into the water\, to destroy him; but if Thou canst do anything\, have pity on us and help us.” And Jesus said to him\, “If you can believe\, all things are possible to him who believes.” Immediately the father of the child cried out and said with tears\, “Lord\, I believe; help my unbelief!” And when Jesus saw that a crowd came running together\, he rebuked the unclean spirit\, saying to it\, “You dumb and deaf spirit\, I command you\, come out of him\, and never enter him again.” And after crying out and convulsing him terribly\, it came out\, and the boy was like a corpse; so that most of them said\, “He is dead.” But Jesus took him by the hand and lifted him up\, and he arose. And when Jesus had entered the house\, His Disciples asked Him privately\, “Why could we not cast it out?” And Jesus said to them\, “This kind cannot be driven out by anything but prayer and fasting.” They went on from there and passed through Galilee. And Jesus would not have anyone know it; for He was teaching His Disciples\, saying to them\, “The Son of man will be delivered into the hands of men\, and they will kill Him; and after He is killed\, He will rise on the third day.”
URL:https://stnicholasmtl.com/event/orthros-and-divine-liturgy-sunday-of-st-john-climacus/
LOCATION:Saint Nicholas Antiochian Orthodox Church\, 80 Rue de Castelnau E\, Montreal\, QC\, H2R 1P2\, Canada
END:VEVENT
BEGIN:VEVENT
DTSTART;TZID=America/New_York:20250329T180000
DTEND;TZID=America/New_York:20250329T180000
DTSTAMP:20260423T135034
CREATED:20250301T173735Z
LAST-MODIFIED:20250301T173735Z
UID:5512-1743271200-1743271200@stnicholasmtl.com
SUMMARY:Vespers
DESCRIPTION:
URL:https://stnicholasmtl.com/event/vespers-24/
LOCATION:Saint Nicholas Antiochian Orthodox Church\, 80 Rue de Castelnau E\, Montreal\, QC\, H2R 1P2\, Canada
END:VEVENT
BEGIN:VEVENT
DTSTART;TZID=America/New_York:20250328T190000
DTEND;TZID=America/New_York:20250328T190000
DTSTAMP:20260423T135034
CREATED:20250301T180330Z
LAST-MODIFIED:20250301T180330Z
UID:5550-1743188400-1743188400@stnicholasmtl.com
SUMMARY:Akathist to the Theotokos
DESCRIPTION:
URL:https://stnicholasmtl.com/event/akathist-to-the-theotokos-5/
LOCATION:Saint Nicholas Antiochian Orthodox Church\, 80 Rue de Castelnau E\, Montreal\, QC\, H2R 1P2\, Canada
END:VEVENT
BEGIN:VEVENT
DTSTART;TZID=America/New_York:20250327T190000
DTEND;TZID=America/New_York:20250327T190000
DTSTAMP:20260423T135034
CREATED:20250304T025700Z
LAST-MODIFIED:20250304T025700Z
UID:5552-1743102000-1743102000@stnicholasmtl.com
SUMMARY:Great Compline
DESCRIPTION:Great Compline in Great Lent – Full Text (Bilingual PDF)
URL:https://stnicholasmtl.com/event/great-compline-3/
LOCATION:Saint Nicholas Antiochian Orthodox Church\, 80 Rue de Castelnau E\, Montreal\, QC\, H2R 1P2\, Canada
END:VEVENT
BEGIN:VEVENT
DTSTART;TZID=America/New_York:20250326T190000
DTEND;TZID=America/New_York:20250326T190000
DTSTAMP:20260423T135034
CREATED:20250301T175706Z
LAST-MODIFIED:20250301T175706Z
UID:5536-1743015600-1743015600@stnicholasmtl.com
SUMMARY:Presanctified Divine Liturgy
DESCRIPTION:Presanctified Divine Liturgy – Full Text Bilingual (PDF)
URL:https://stnicholasmtl.com/event/presanctified-divine-liturgy-6/
LOCATION:Saint Nicholas Antiochian Orthodox Church\, 80 Rue de Castelnau E\, Montreal\, QC\, H2R 1P2\, Canada
END:VEVENT
BEGIN:VEVENT
DTSTART;TZID=America/New_York:20250325T190000
DTEND;TZID=America/New_York:20250325T190000
DTSTAMP:20260423T135034
CREATED:20250301T180003Z
LAST-MODIFIED:20250301T180003Z
UID:5542-1742929200-1742929200@stnicholasmtl.com
SUMMARY:Vesperal Divine Liturgy for the Feast of the Annunciation
DESCRIPTION:Bilingual – Divine Liturgy Variables (PDF)
URL:https://stnicholasmtl.com/event/vesperal-divine-liturgy-for-the-feast-of-the-annunciation/
LOCATION:Saint Nicholas Antiochian Orthodox Church\, 80 Rue de Castelnau E\, Montreal\, QC\, H2R 1P2\, Canada
END:VEVENT
BEGIN:VEVENT
DTSTART;TZID=America/New_York:20250323T090000
DTEND;TZID=America/New_York:20250323T090000
DTSTAMP:20260423T135034
CREATED:20250301T172942Z
LAST-MODIFIED:20250301T172942Z
UID:5502-1742720400-1742720400@stnicholasmtl.com
SUMMARY:Orthros and Divine Liturgy - Sunday of the Holy Cross
DESCRIPTION:THE EPISTLE \n(For the Third Sunday of Great Lent) \nO Lord\, save Thy people and bless Thine inheritance. \nUnto Thee\, O Lord\, will I cry\, O my God! \nThe Reading from the Epistle of St. Paul to the Hebrews. (4:14-5:6) \nBrethren\, since we have a great High Priest\, Who has passed through the heavens\, Jesus the Son of God\, let us hold fast the confession. For we do not have a High Priest Who is unable to sympathize with our infirmities\, but one Who has been in all points tempted like as we are\, yet without sin.  Let us therefore draw near with boldness to the throne of grace\, that we may receive mercy\, and may find grace to help in time of need. For every high priest\, being taken from among the people\, is appointed on behalf of the people in things pertaining to God\, that he may offer up both gifts and sacrifices for sins; who can have compassion on the ignorant and on those who are erring\, since he himself also is encompassed with infirmity. Because of this he is bound\, as for the people so also for himself\, to offer up for sins. And no one takes the honor upon himself\, but as being called by God\, as was Aaron. So Christ also did not glorify Himself to become a High Priest\, but it was by the One saying to Him\, “Thou art My Son\, today I have begotten Thee.”  As He says also in another place\, “Thou art a Priest forever\, according to the order of Melchizedek.” \n\nTHE GOSPEL \n(For the Third Sunday of Great Lent) \nThe Reading from the Holy Gospel according to St. Mark. (8:34-9:1) \nThe Lord said\, “If any man would come after Me\, let him deny himself and take up his cross and follow Me. For whoever would save his life will lose it; and whoever loses his life for My sake and the gospel’s will save it. For what does it profit a man to gain the whole world and forfeit his soul? For what can a man give in return for his soul? For whoever is ashamed of Me and My words in this adulterous and sinful generation\, of him will the Son of man also be ashamed\, when He comes in the glory of His Father with the holy angels.” And Jesus said to them\, “Truly\, I say to you\, there are some standing here who will not taste death before they see the kingdom of God come with power.”
URL:https://stnicholasmtl.com/event/orthros-and-divine-liturgy-sunday-of-the-holy-cross/
LOCATION:Saint Nicholas Antiochian Orthodox Church\, 80 Rue de Castelnau E\, Montreal\, QC\, H2R 1P2\, Canada
END:VEVENT
BEGIN:VEVENT
DTSTART;TZID=America/New_York:20250322T180000
DTEND;TZID=America/New_York:20250322T180000
DTSTAMP:20260423T135034
CREATED:20250301T173658Z
LAST-MODIFIED:20250301T173658Z
UID:5510-1742666400-1742666400@stnicholasmtl.com
SUMMARY:Vespers
DESCRIPTION:
URL:https://stnicholasmtl.com/event/vespers-23/
LOCATION:Saint Nicholas Antiochian Orthodox Church\, 80 Rue de Castelnau E\, Montreal\, QC\, H2R 1P2\, Canada
END:VEVENT
BEGIN:VEVENT
DTSTART;TZID=America/New_York:20250321T190000
DTEND;TZID=America/New_York:20250321T190000
DTSTAMP:20260423T135034
CREATED:20250301T180300Z
LAST-MODIFIED:20250301T180300Z
UID:5548-1742583600-1742583600@stnicholasmtl.com
SUMMARY:Akathist to the Theotokos
DESCRIPTION:
URL:https://stnicholasmtl.com/event/akathist-to-the-theotokos-4/
LOCATION:Saint Nicholas Antiochian Orthodox Church\, 80 Rue de Castelnau E\, Montreal\, QC\, H2R 1P2\, Canada
END:VEVENT
BEGIN:VEVENT
DTSTART;TZID=America/New_York:20250320T190000
DTEND;TZID=America/New_York:20250320T190000
DTSTAMP:20260423T135034
CREATED:20250301T174611Z
LAST-MODIFIED:20250304T025209Z
UID:5520-1742497200-1742497200@stnicholasmtl.com
SUMMARY:Great Compline
DESCRIPTION:Great Compline in Great Lent – Full Text (Bilingual PDF)
URL:https://stnicholasmtl.com/event/greate-compline-3/
LOCATION:Saint Nicholas Antiochian Orthodox Church\, 80 Rue de Castelnau E\, Montreal\, QC\, H2R 1P2\, Canada
END:VEVENT
BEGIN:VEVENT
DTSTART;TZID=America/New_York:20250319T190000
DTEND;TZID=America/New_York:20250319T190000
DTSTAMP:20260423T135034
CREATED:20250301T175629Z
LAST-MODIFIED:20250301T175629Z
UID:5534-1742410800-1742410800@stnicholasmtl.com
SUMMARY:Presanctified Divine Liturgy
DESCRIPTION:Presanctified Divine Liturgy – Full Text Bilingual (PDF)
URL:https://stnicholasmtl.com/event/presanctified-divine-liturgy-5/
LOCATION:Saint Nicholas Antiochian Orthodox Church\, 80 Rue de Castelnau E\, Montreal\, QC\, H2R 1P2\, Canada
END:VEVENT
BEGIN:VEVENT
DTSTART;TZID=America/New_York:20250316T090000
DTEND;TZID=America/New_York:20250316T090000
DTSTAMP:20260423T135034
CREATED:20250301T172712Z
LAST-MODIFIED:20250301T172712Z
UID:5500-1742115600-1742115600@stnicholasmtl.com
SUMMARY:Orthros and Divine Liturgy - Sunday of St. Gregory Palamas
DESCRIPTION:THE EPISTLE \nThou\, O Lord\, shalt preserve us and keep us from this generation. \nSave me\, O Lord\, for the godly man hath disappeared. \nThe Reading from the Epistle of St. Paul to the Hebrews. (1:10-2:3) \nThou\, “O Lord\, in the beginning didst lay the foundation of the earth\, and the heavens are the works of Thy hands; they will perish; but Thou remainest; and they will all grow old like a garment\, and like a mantle Thou wilt roll them up\, and they shall be changed; but Thou art the same\, and Thy years will not fail.” But to which of the angels did He say at any time\, “Sit on My right hand\, until I make thine enemies a footstool for thy feet?” Are they not all spirits for liturgical ministry\, sent forth to minister for the sake of those who are to inherit salvation? Therefore\, we ought to give the more earnest heed to the things that were heard\, lest at any time we drift away from them. For if the word spoken through angels was confirmed\, and every transgression and disobedience received a just retribution\, how shall we escape\, if we neglect so great a salvation\, which having at first been spoken through the Lord\, was confirmed to us by those who heard? \n\nTHE GOSPEL \nThe Reading from the Holy Gospel according to St. Mark. (2:1-12) \nAt that time\, when Jesus returned to Capernaum after some days\, it was reported that He was at home. And many were gathered together\, so that there was no longer room for them\, not even about the door; and He was preaching the Word to them. And they came\, bringing to Jesus a paralytic carried by four men. And when they could not get near Jesus because of the crowd\, they removed the roof above Him; and when they had made an opening\, they let down the pallet on which the paralytic lay. And when Jesus saw their faith\, He said to the paralytic\, “Son\, your sins are forgiven.” Now\, some of the scribes were sitting there\, reasoning in their hearts\, “Why does this man speak thus? It is blasphemy! Who can forgive sins but God alone?” And immediately Jesus\, perceiving in His spirit that they thus reasoned within themselves\, said to them\, “Why do you reason thus in your hearts? Which is easier\, to say to the paralytic\, ‘Your sins are forgiven\,’ or to say\, ‘Rise\, take up your pallet and walk’? But that you may know that the Son of Man has authority on earth to forgive sins” – He said to the paralytic – “I say to you\, rise\, take up your pallet and go home.” And he rose\, and immediately took up the pallet and went out before them all. So that they were all amazed and glorified God\, saying\, “We never saw anything like this!”
URL:https://stnicholasmtl.com/event/orthros-and-divine-liturgy-sunday-of-st-gregory-palamas/
LOCATION:Saint Nicholas Antiochian Orthodox Church\, 80 Rue de Castelnau E\, Montreal\, QC\, H2R 1P2\, Canada
END:VEVENT
BEGIN:VEVENT
DTSTART;TZID=America/New_York:20250315T180000
DTEND;TZID=America/New_York:20250315T180000
DTSTAMP:20260423T135034
CREATED:20250301T173517Z
LAST-MODIFIED:20250301T173517Z
UID:5508-1742061600-1742061600@stnicholasmtl.com
SUMMARY:Vespers
DESCRIPTION:
URL:https://stnicholasmtl.com/event/vespers-22/
LOCATION:Saint Nicholas Antiochian Orthodox Church\, 80 Rue de Castelnau E\, Montreal\, QC\, H2R 1P2\, Canada
END:VEVENT
BEGIN:VEVENT
DTSTART;TZID=America/New_York:20250314T190000
DTEND;TZID=America/New_York:20250314T190000
DTSTAMP:20260423T135034
CREATED:20250301T180234Z
LAST-MODIFIED:20250301T180234Z
UID:5546-1741978800-1741978800@stnicholasmtl.com
SUMMARY:Akathist to the Theotokos
DESCRIPTION:
URL:https://stnicholasmtl.com/event/akathist-to-the-theotokos-3/
LOCATION:Saint Nicholas Antiochian Orthodox Church\, 80 Rue de Castelnau E\, Montreal\, QC\, H2R 1P2\, Canada
END:VEVENT
BEGIN:VEVENT
DTSTART;TZID=America/New_York:20250313T190000
DTEND;TZID=America/New_York:20250313T190000
DTSTAMP:20260423T135034
CREATED:20250301T174515Z
LAST-MODIFIED:20250304T025320Z
UID:5518-1741892400-1741892400@stnicholasmtl.com
SUMMARY:Great Compline
DESCRIPTION:Great Compline in Great Lent – Full Text (Bilingual PDF)
URL:https://stnicholasmtl.com/event/greate-compline-2/
LOCATION:Saint Nicholas Antiochian Orthodox Church\, 80 Rue de Castelnau E\, Montreal\, QC\, H2R 1P2\, Canada
END:VEVENT
BEGIN:VEVENT
DTSTART;TZID=America/New_York:20250312T190000
DTEND;TZID=America/New_York:20250312T190000
DTSTAMP:20260423T135034
CREATED:20250301T175600Z
LAST-MODIFIED:20250301T175600Z
UID:5532-1741806000-1741806000@stnicholasmtl.com
SUMMARY:Presanctified Divine Liturgy
DESCRIPTION:Presanctified Divine Liturgy – Full Text Bilingual (PDF)
URL:https://stnicholasmtl.com/event/presanctified-divine-liturgy-4/
LOCATION:Saint Nicholas Antiochian Orthodox Church\, 80 Rue de Castelnau E\, Montreal\, QC\, H2R 1P2\, Canada
END:VEVENT
BEGIN:VEVENT
DTSTART;TZID=America/New_York:20250309T090000
DTEND;TZID=America/New_York:20250309T090000
DTSTAMP:20260423T135034
CREATED:20250301T172423Z
LAST-MODIFIED:20250301T172423Z
UID:5498-1741510800-1741510800@stnicholasmtl.com
SUMMARY:Orthros and Divine Liturgy - Sunday of Orthodoxy
DESCRIPTION:THE EPISTLE \n(For the Forty Martyrs of Sebastia) \nThou\, O Lord\, will preserve us and keep us from this generation. \nSave me\, O Lord\, for the godly man hath disappeared. \nThe Reading from the Epistle of St. Paul to the Hebrews. (12:1-10) \nBrethren\, since we are surrounded by so great a cloud of witnesses\, let us also lay aside every weight and sin which clings so closely; and let us run with perseverance the race that is set before us\, looking to Jesus: the Pioneer and Perfecter of our faith\, Who for the joy that was set before Him endured the cross\, despising the shame\, and is seated at the right hand of the throne of God. Consider Him Who endured from sinners such hostility against Himself\, so that you may not grow weary or fainthearted. In your struggle against sin you have not yet resisted to the point of shedding your blood. And have you forgotten the exhortation which addresses you as sons? “My son: do not regard lightly the discipline of the Lord\, nor lose courage when you are punished by Him; for the Lord disciplines him whom He loves\, and chastises every son whom He receives.” It is for discipline that you have to endure. God is treating you as sons; for what son is there whom his father does not discipline? If you are left without discipline\, in which all have participated\, then you are illegitimate children and not sons. Besides this\, we have had earthly fathers to discipline us and we respected them. Shall we not much more be subject to the Father? \n\nTHE GOSPEL \n(For the First Sunday of Great Lent) \nThe Reading from the Holy Gospel according to St. John. (1:43-51) \nAt that time\, Jesus decided to go to Galilee. And He found Philip and said to him\, “Follow Me.”  Now Philip was from Bethsaida\, the city of Andrew and Peter. Philip found Nathanael\, and said to him\, “We have found Him of Whom Moses in the Law and also the Prophets wrote\, Jesus of Nazareth\, the son of Joseph.” Nathanael said to him\, “Can anything good come out of Nazareth?” Philip said to him\, “Come and see.” Jesus saw Nathanael coming to Him\, and said of him\, “Behold\, an Israelite indeed\, in whom is no guile!” Nathanael said to Jesus\, “How do you know me?” Jesus answered him\, “Before Philip called you\, when you were under the fig tree\, I saw you.” Nathanael answered Him\, “Rabbi\, Thou art the Son of God! Thou art the King of Israel!” Jesus answered him\, “Because I said to you\, I saw you under the fig tree\, do you believe? You shall see greater things than these.” And Jesus said to him\, “Truly\, truly\, I say to you\, you will see heaven opened\, and the angels of God ascending and descending upon the Son of man.”
URL:https://stnicholasmtl.com/event/orthros-and-divine-liturgy-sunday-of-orthodoxy/
LOCATION:Saint Nicholas Antiochian Orthodox Church\, 80 Rue de Castelnau E\, Montreal\, QC\, H2R 1P2\, Canada
END:VEVENT
BEGIN:VEVENT
DTSTART;TZID=America/New_York:20250308T180000
DTEND;TZID=America/New_York:20250308T180000
DTSTAMP:20260423T135034
CREATED:20250301T173424Z
LAST-MODIFIED:20250301T173424Z
UID:5506-1741456800-1741456800@stnicholasmtl.com
SUMMARY:Vespers
DESCRIPTION:
URL:https://stnicholasmtl.com/event/vespers-21/
LOCATION:Saint Nicholas Antiochian Orthodox Church\, 80 Rue de Castelnau E\, Montreal\, QC\, H2R 1P2\, Canada
END:VEVENT
BEGIN:VEVENT
DTSTART;TZID=America/New_York:20250307T190000
DTEND;TZID=America/New_York:20250307T190000
DTSTAMP:20260423T135034
CREATED:20250301T180209Z
LAST-MODIFIED:20250301T180209Z
UID:5544-1741374000-1741374000@stnicholasmtl.com
SUMMARY:Akathist to the Theotokos
DESCRIPTION:
URL:https://stnicholasmtl.com/event/akathist-to-the-theotokos-2/
LOCATION:Saint Nicholas Antiochian Orthodox Church\, 80 Rue de Castelnau E\, Montreal\, QC\, H2R 1P2\, Canada
END:VEVENT
BEGIN:VEVENT
DTSTART;TZID=America/New_York:20250306T190000
DTEND;TZID=America/New_York:20250306T190000
DTSTAMP:20260423T135034
CREATED:20250301T174357Z
LAST-MODIFIED:20250304T025352Z
UID:5516-1741287600-1741287600@stnicholasmtl.com
SUMMARY:Greate Compline
DESCRIPTION:Great Compline in Great Lent – Full Text (Bilingual PDF)
URL:https://stnicholasmtl.com/event/greate-compline/
LOCATION:Saint Nicholas Antiochian Orthodox Church\, 80 Rue de Castelnau E\, Montreal\, QC\, H2R 1P2\, Canada
END:VEVENT
BEGIN:VEVENT
DTSTART;TZID=America/New_York:20250305T190000
DTEND;TZID=America/New_York:20250305T190000
DTSTAMP:20260423T135034
CREATED:20250301T175504Z
LAST-MODIFIED:20250301T175504Z
UID:5530-1741201200-1741201200@stnicholasmtl.com
SUMMARY:Presanctified Divine Liturgy
DESCRIPTION:Presanctified Divine Liturgy – Full Text Bilingual (PDF)
URL:https://stnicholasmtl.com/event/presanctified-divine-liturgy-3/
LOCATION:Saint Nicholas Antiochian Orthodox Church\, 80 Rue de Castelnau E\, Montreal\, QC\, H2R 1P2\, Canada
END:VEVENT
END:VCALENDAR