BEGIN:VCALENDAR
VERSION:2.0
PRODID:-// - ECPv6.15.18//NONSGML v1.0//EN
CALSCALE:GREGORIAN
METHOD:PUBLISH
X-ORIGINAL-URL:https://stnicholasmtl.com
X-WR-CALDESC:Events for 
REFRESH-INTERVAL;VALUE=DURATION:PT1H
X-Robots-Tag:noindex
X-PUBLISHED-TTL:PT1H
BEGIN:VTIMEZONE
TZID:America/New_York
BEGIN:DAYLIGHT
TZOFFSETFROM:-0500
TZOFFSETTO:-0400
TZNAME:EDT
DTSTART:20220313T070000
END:DAYLIGHT
BEGIN:STANDARD
TZOFFSETFROM:-0400
TZOFFSETTO:-0500
TZNAME:EST
DTSTART:20221106T060000
END:STANDARD
BEGIN:DAYLIGHT
TZOFFSETFROM:-0500
TZOFFSETTO:-0400
TZNAME:EDT
DTSTART:20230312T070000
END:DAYLIGHT
BEGIN:STANDARD
TZOFFSETFROM:-0400
TZOFFSETTO:-0500
TZNAME:EST
DTSTART:20231105T060000
END:STANDARD
BEGIN:DAYLIGHT
TZOFFSETFROM:-0500
TZOFFSETTO:-0400
TZNAME:EDT
DTSTART:20240310T070000
END:DAYLIGHT
BEGIN:STANDARD
TZOFFSETFROM:-0400
TZOFFSETTO:-0500
TZNAME:EST
DTSTART:20241103T060000
END:STANDARD
END:VTIMEZONE
BEGIN:VEVENT
DTSTART;TZID=America/New_York:20231104T083000
DTEND;TZID=America/New_York:20231104T193000
DTSTAMP:20260424T113356
CREATED:20231104T141426Z
LAST-MODIFIED:20231104T141426Z
UID:3985-1699086600-1699126200@stnicholasmtl.com
SUMMARY:Diocesan Annual Retreat held at St. George Church
DESCRIPTION:
URL:https://stnicholasmtl.com/event/diocesan-annual-retreat-held-at-st-george-church-2/
LOCATION:St George Antiochian Orthodox Church\, 555 Jean-Talon Rue E\, Montreal\, QC\, H2R1T8\, Canada
END:VEVENT
BEGIN:VEVENT
DTSTART;TZID=America/New_York:20231103T180000
DTEND;TZID=America/New_York:20231103T220000
DTSTAMP:20260424T113356
CREATED:20231104T141332Z
LAST-MODIFIED:20231104T141332Z
UID:3982-1699034400-1699048800@stnicholasmtl.com
SUMMARY:Diocesan Annual Retreat held at St. George Church
DESCRIPTION:
URL:https://stnicholasmtl.com/event/diocesan-annual-retreat-held-at-st-george-church/
LOCATION:St George Antiochian Orthodox Church\, 555 Jean-Talon Rue E\, Montreal\, QC\, H2R1T8\, Canada
END:VEVENT
BEGIN:VEVENT
DTSTART;TZID=America/New_York:20231103T090000
DTEND;TZID=America/New_York:20231103T090000
DTSTAMP:20260424T113356
CREATED:20231126T044940Z
LAST-MODIFIED:20231126T044940Z
UID:4193-1699002000-1699002000@stnicholasmtl.com
SUMMARY:Orthros and Divine Liturgy
DESCRIPTION:
URL:https://stnicholasmtl.com/event/orthros-and-divine-liturgy/
LOCATION:Saint Nicholas Antiochian Orthodox Church\, 80 Rue de Castelnau E\, Montreal\, QC\, H2R 1P2\, Canada
END:VEVENT
BEGIN:VEVENT
DTSTART;TZID=America/New_York:20231029T090000
DTEND;TZID=America/New_York:20231029T113000
DTSTAMP:20260424T113356
CREATED:20231004T001749Z
LAST-MODIFIED:20231004T002318Z
UID:3785-1698570000-1698579000@stnicholasmtl.com
SUMMARY:Orthros & Divine Liturgy
DESCRIPTION:
URL:https://stnicholasmtl.com/event/orthros-divine-liturgy-7/
LOCATION:Saint Nicholas Antiochian Orthodox Church\, 80 Rue de Castelnau E\, Montreal\, QC\, H2R 1P2\, Canada
END:VEVENT
BEGIN:VEVENT
DTSTART;TZID=America/New_York:20231028T190000
DTEND;TZID=America/New_York:20231028T230000
DTSTAMP:20260424T113356
CREATED:20231026T004722Z
LAST-MODIFIED:20231026T005102Z
UID:3951-1698519600-1698534000@stnicholasmtl.com
SUMMARY:Fellowship Night - Organized by Antiochian Men - Open to All
DESCRIPTION:
URL:https://stnicholasmtl.com/event/fellowship-night-organized-by-antiochian-men-open-to-all/
LOCATION:Saint Nicholas Antiochian Orthodox Church\, 80 Rue de Castelnau E\, Montreal\, QC\, H2R 1P2\, Canada
ATTACH;FMTTYPE=image/jpeg:https://stnicholasmtl.com/wp-content/uploads/2023/10/unnamed.jpg
END:VEVENT
BEGIN:VEVENT
DTSTART;TZID=America/New_York:20231028T180000
DTEND;TZID=America/New_York:20231028T190000
DTSTAMP:20260424T113356
CREATED:20231004T002012Z
LAST-MODIFIED:20231004T002012Z
UID:3793-1698516000-1698519600@stnicholasmtl.com
SUMMARY:Vespers & Compline
DESCRIPTION:
URL:https://stnicholasmtl.com/event/vespers-compline-17/
LOCATION:Saint Nicholas Antiochian Orthodox Church\, 80 Rue de Castelnau E\, Montreal\, QC\, H2R 1P2\, Canada
END:VEVENT
BEGIN:VEVENT
DTSTART;TZID=America/New_York:20231024T190000
DTEND;TZID=America/New_York:20231024T200000
DTSTAMP:20260424T113356
CREATED:20231020T231443Z
LAST-MODIFIED:20231020T231443Z
UID:3924-1698174000-1698177600@stnicholasmtl.com
SUMMARY:"Gimme a Hug - Learn the power to impact the lives of others" By coach George Khouri
DESCRIPTION:
URL:https://stnicholasmtl.com/event/gimme-a-hug-learn-the-power-to-impact-the-lives-of-others-by-coach-george-khouri/
LOCATION:Saint Nicholas Antiochian Orthodox Church\, 80 Rue de Castelnau E\, Montreal\, QC\, H2R 1P2\, Canada
END:VEVENT
BEGIN:VEVENT
DTSTART;TZID=America/New_York:20231022T120000
DTEND;TZID=America/New_York:20231022T140000
DTSTAMP:20260424T113356
CREATED:20231020T233056Z
LAST-MODIFIED:20231020T234127Z
UID:3930-1697976000-1697983200@stnicholasmtl.com
SUMMARY:Teen SOYO Burger and Fries - Fundraiser Event
DESCRIPTION:Join us and support our teens
URL:https://stnicholasmtl.com/event/teen-soyo-burger-and-fries-fundraiser-event/
LOCATION:Saint Nicholas Antiochian Orthodox Church\, 80 Rue de Castelnau E\, Montreal\, QC\, H2R 1P2\, Canada
END:VEVENT
BEGIN:VEVENT
DTSTART;TZID=America/New_York:20231022T090000
DTEND;TZID=America/New_York:20231022T113000
DTSTAMP:20260424T113356
CREATED:20231004T001728Z
LAST-MODIFIED:20231004T002357Z
UID:3783-1697965200-1697974200@stnicholasmtl.com
SUMMARY:Orthros & Divine Liturgy
DESCRIPTION:
URL:https://stnicholasmtl.com/event/orthros-divine-liturgy-6/
LOCATION:Saint Nicholas Antiochian Orthodox Church\, 80 Rue de Castelnau E\, Montreal\, QC\, H2R 1P2\, Canada
END:VEVENT
BEGIN:VEVENT
DTSTART;TZID=America/New_York:20231021T180000
DTEND;TZID=America/New_York:20231021T190000
DTSTAMP:20260424T113356
CREATED:20231004T001944Z
LAST-MODIFIED:20231004T001944Z
UID:3791-1697911200-1697914800@stnicholasmtl.com
SUMMARY:Vespers & Compline
DESCRIPTION:
URL:https://stnicholasmtl.com/event/vespers-compline-16/
LOCATION:Saint Nicholas Antiochian Orthodox Church\, 80 Rue de Castelnau E\, Montreal\, QC\, H2R 1P2\, Canada
END:VEVENT
BEGIN:VEVENT
DTSTART;TZID=America/New_York:20231015T090000
DTEND;TZID=America/New_York:20231015T113000
DTSTAMP:20260424T113356
CREATED:20231004T001703Z
LAST-MODIFIED:20231004T002429Z
UID:3781-1697360400-1697369400@stnicholasmtl.com
SUMMARY:Orthros & Divine Liturgy
DESCRIPTION:
URL:https://stnicholasmtl.com/event/orthros-divine-liturgy-5/
LOCATION:Saint Nicholas Antiochian Orthodox Church\, 80 Rue de Castelnau E\, Montreal\, QC\, H2R 1P2\, Canada
END:VEVENT
BEGIN:VEVENT
DTSTART;TZID=America/New_York:20231014T180000
DTEND;TZID=America/New_York:20231014T190000
DTSTAMP:20260424T113356
CREATED:20231004T001920Z
LAST-MODIFIED:20231004T001920Z
UID:3789-1697306400-1697310000@stnicholasmtl.com
SUMMARY:Vespers & Compline
DESCRIPTION:
URL:https://stnicholasmtl.com/event/vespers-compline-15/
LOCATION:Saint Nicholas Antiochian Orthodox Church\, 80 Rue de Castelnau E\, Montreal\, QC\, H2R 1P2\, Canada
END:VEVENT
BEGIN:VEVENT
DTSTART;TZID=America/New_York:20231012T190000
DTEND;TZID=America/New_York:20231012T200000
DTSTAMP:20260424T113356
CREATED:20231004T002131Z
LAST-MODIFIED:20231004T002131Z
UID:3795-1697137200-1697140800@stnicholasmtl.com
SUMMARY:St. Jacob of  Hamatoura Divine Liturgy (Holy Relic)
DESCRIPTION:
URL:https://stnicholasmtl.com/event/st-jacob-of-hamatoura-divine-liturgy-holy-relic/
LOCATION:Saint Nicholas Antiochian Orthodox Church\, 80 Rue de Castelnau E\, Montreal\, QC\, H2R 1P2\, Canada
END:VEVENT
BEGIN:VEVENT
DTSTART;TZID=America/New_York:20231008T090000
DTEND;TZID=America/New_York:20231008T113000
DTSTAMP:20260424T113356
CREATED:20231004T001636Z
LAST-MODIFIED:20231004T002455Z
UID:3779-1696755600-1696764600@stnicholasmtl.com
SUMMARY:Orthros & Divine Liturgy
DESCRIPTION:
URL:https://stnicholasmtl.com/event/orthros-divine-liturgy-4/
LOCATION:Saint Nicholas Antiochian Orthodox Church\, 80 Rue de Castelnau E\, Montreal\, QC\, H2R 1P2\, Canada
END:VEVENT
BEGIN:VEVENT
DTSTART;TZID=America/New_York:20231007T180000
DTEND;TZID=America/New_York:20231007T190000
DTSTAMP:20260424T113356
CREATED:20231004T001851Z
LAST-MODIFIED:20231004T001851Z
UID:3787-1696701600-1696705200@stnicholasmtl.com
SUMMARY:Vespers & Compline
DESCRIPTION:
URL:https://stnicholasmtl.com/event/vespers-compline-14/
LOCATION:Saint Nicholas Antiochian Orthodox Church\, 80 Rue de Castelnau E\, Montreal\, QC\, H2R 1P2\, Canada
END:VEVENT
BEGIN:VEVENT
DTSTART;TZID=America/New_York:20231001T090000
DTEND;TZID=America/New_York:20231001T113000
DTSTAMP:20260424T113356
CREATED:20231004T001551Z
LAST-MODIFIED:20231004T002537Z
UID:3777-1696150800-1696159800@stnicholasmtl.com
SUMMARY:Orthros & Divine Liturgy
DESCRIPTION:
URL:https://stnicholasmtl.com/event/orthros-divine-liturgy-3/
LOCATION:Saint Nicholas Antiochian Orthodox Church\, 80 Rue de Castelnau E\, Montreal\, QC\, H2R 1P2\, Canada
END:VEVENT
BEGIN:VEVENT
DTSTART;TZID=America/New_York:20230930T180000
DTEND;TZID=America/New_York:20230930T190000
DTSTAMP:20260424T113356
CREATED:20230902T180559Z
LAST-MODIFIED:20230902T180559Z
UID:3666-1696096800-1696100400@stnicholasmtl.com
SUMMARY:Vespers & Compline
DESCRIPTION:
URL:https://stnicholasmtl.com/event/vespers-compline-12/
LOCATION:QC
END:VEVENT
BEGIN:VEVENT
DTSTART;TZID=America/New_York:20230924T090000
DTEND;TZID=America/New_York:20230924T120000
DTSTAMP:20260424T113356
CREATED:20230902T180336Z
LAST-MODIFIED:20230902T180336Z
UID:3658-1695546000-1695556800@stnicholasmtl.com
SUMMARY:Sunday Orthros & Divine Liturgy
DESCRIPTION:
URL:https://stnicholasmtl.com/event/sunday-orthros-divine-liturgy-12/
LOCATION:QC
END:VEVENT
BEGIN:VEVENT
DTSTART;TZID=America/New_York:20230923T180000
DTEND;TZID=America/New_York:20230923T190000
DTSTAMP:20260424T113356
CREATED:20230902T180624Z
LAST-MODIFIED:20230902T180624Z
UID:3668-1695492000-1695495600@stnicholasmtl.com
SUMMARY:Vespers & Compline
DESCRIPTION:
URL:https://stnicholasmtl.com/event/vespers-compline-13/
LOCATION:QC
END:VEVENT
BEGIN:VEVENT
DTSTART;TZID=America/New_York:20230917T090000
DTEND;TZID=America/New_York:20230917T120000
DTSTAMP:20260424T113356
CREATED:20230902T180300Z
LAST-MODIFIED:20230902T180300Z
UID:3656-1694941200-1694952000@stnicholasmtl.com
SUMMARY:Sunday Orthros & Divine Liturgy
DESCRIPTION:
URL:https://stnicholasmtl.com/event/sunday-orthros-divine-liturgy-11/
LOCATION:QC
END:VEVENT
BEGIN:VEVENT
DTSTART;TZID=America/New_York:20230916T180000
DTEND;TZID=America/New_York:20230916T190000
DTSTAMP:20260424T113356
CREATED:20230902T180535Z
LAST-MODIFIED:20230902T180535Z
UID:3664-1694887200-1694890800@stnicholasmtl.com
SUMMARY:Vespers & Compline
DESCRIPTION:
URL:https://stnicholasmtl.com/event/vespers-compline-11/
LOCATION:QC
END:VEVENT
BEGIN:VEVENT
DTSTART;TZID=America/New_York:20230913T190000
DTEND;TZID=America/New_York:20230913T200000
DTSTAMP:20260424T113356
CREATED:20230902T180933Z
LAST-MODIFIED:20230902T182134Z
UID:3672-1694631600-1694635200@stnicholasmtl.com
SUMMARY:Feast of the Cross
DESCRIPTION:
URL:https://stnicholasmtl.com/event/feast-of-the-cross/
LOCATION:Saint Nicholas Antiochian Orthodox Church\, 80 Rue de Castelnau E\, Montreal\, QC\, H2R 1P2\, Canada
END:VEVENT
BEGIN:VEVENT
DTSTART;TZID=America/New_York:20230910T123000
DTEND;TZID=America/New_York:20230910T150000
DTSTAMP:20260424T113356
CREATED:20230825T164612Z
LAST-MODIFIED:20230825T164649Z
UID:3644-1694349000-1694358000@stnicholasmtl.com
SUMMARY:Mediterranean BBQ - Sunday\, Sept 10 - Open to all
DESCRIPTION:
URL:https://stnicholasmtl.com/event/mediterranean-bbq-sunday-sept-10-open-to-all/
LOCATION:Saint Nicholas Antiochian Orthodox Church\, 80 Rue de Castelnau E\, Montreal\, QC\, H2R 1P2\, Canada
ATTACH;FMTTYPE=image/png:https://stnicholasmtl.com/wp-content/uploads/2023/08/BBQ.png
END:VEVENT
BEGIN:VEVENT
DTSTART;TZID=America/New_York:20230910T090000
DTEND;TZID=America/New_York:20230910T120000
DTSTAMP:20260424T113356
CREATED:20230902T180157Z
LAST-MODIFIED:20230902T180157Z
UID:3654-1694336400-1694347200@stnicholasmtl.com
SUMMARY:Sunday Orthros & Divine Liturgy
DESCRIPTION:
URL:https://stnicholasmtl.com/event/sunday-orthros-divine-liturgy-10/
LOCATION:QC
END:VEVENT
BEGIN:VEVENT
DTSTART;TZID=America/New_York:20230909T180000
DTEND;TZID=America/New_York:20230909T190000
DTSTAMP:20260424T113356
CREATED:20230902T180512Z
LAST-MODIFIED:20230902T180512Z
UID:3662-1694282400-1694286000@stnicholasmtl.com
SUMMARY:Vespers & Compline
DESCRIPTION:
URL:https://stnicholasmtl.com/event/vespers-compline-10/
LOCATION:QC
END:VEVENT
BEGIN:VEVENT
DTSTART;TZID=America/New_York:20230907T190000
DTEND;TZID=America/New_York:20230907T203000
DTSTAMP:20260424T113356
CREATED:20230902T180835Z
LAST-MODIFIED:20230902T180835Z
UID:3670-1694113200-1694118600@stnicholasmtl.com
SUMMARY:Feast of the Nativity of the Theotokos - Saint Mary Church
DESCRIPTION:
URL:https://stnicholasmtl.com/event/feast-of-the-nativity-of-the-theotokos-saint-mary-church/
LOCATION:Saint Mary Antiochian Orthodox Church\, 120 Boulevard Gouin E\, Montreal\, QC\, H3L 1A7\, Canada
END:VEVENT
BEGIN:VEVENT
DTSTART;TZID=America/New_York:20230903T090000
DTEND;TZID=America/New_York:20230903T120000
DTSTAMP:20260424T113356
CREATED:20230902T180046Z
LAST-MODIFIED:20230902T180046Z
UID:3652-1693731600-1693742400@stnicholasmtl.com
SUMMARY:Sunday Orthros & Divine Liturgy
DESCRIPTION:
URL:https://stnicholasmtl.com/event/sunday-orthros-divine-liturgy-9/
LOCATION:QC
ORGANIZER;CN="St. George Antiochian Orthodox Church Montreal":MAILTO:saiddababneh@@hotmail.com OR christnajm10@gmail.com
END:VEVENT
BEGIN:VEVENT
DTSTART;TZID=America/New_York:20230902T180000
DTEND;TZID=America/New_York:20230902T190000
DTSTAMP:20260424T113356
CREATED:20230902T180447Z
LAST-MODIFIED:20230902T180447Z
UID:3660-1693677600-1693681200@stnicholasmtl.com
SUMMARY:Vespers & Compline
DESCRIPTION:
URL:https://stnicholasmtl.com/event/vespers-compline-9/
LOCATION:QC
END:VEVENT
BEGIN:VEVENT
DTSTART;TZID=America/New_York:20230901T080000
DTEND;TZID=America/New_York:20230903T170000
DTSTAMP:20260424T113356
CREATED:20230623T170318Z
LAST-MODIFIED:20230624T010452Z
UID:3511-1693555200-1693760400@stnicholasmtl.com
SUMMARY:2023 Soccer Tournament
DESCRIPTION:St. George Antiochian Orthodox Church in Montreal is honored to host the “2023 Soccer Tournament 16+”\nFrom 1st to 3rd of September\nTournament September 2nd \n60$/Player\n35$/Participant \nFor registration\, please click here. Deadline: July 15th\, 2023 \nHotel registration information are found in the event poster above. Deadline: July 31st\, 2023
URL:https://stnicholasmtl.com/event/2023-soccer-tournament/
LOCATION:Complexe Sportif Terrebonne\, 2475 BD Des Entreprises\, Terrebonne\, QC\, J6X4J9\, Canada
ATTACH;FMTTYPE=image/png:https://stnicholasmtl.com/wp-content/uploads/2023/06/2023-Soccer-Tournament.png
ORGANIZER;CN="St. George Antiochian Orthodox Church Montreal":MAILTO:saiddababneh@@hotmail.com OR christnajm10@gmail.com
END:VEVENT
BEGIN:VEVENT
DTSTART;TZID=America/New_York:20230828T190000
DTEND;TZID=America/New_York:20230828T200000
DTSTAMP:20260424T113356
CREATED:20230802T001437Z
LAST-MODIFIED:20230802T001437Z
UID:3623-1693249200-1693252800@stnicholasmtl.com
SUMMARY:Divine Liturgy - Feast of the Beheading of St. John the Forerunner & Baptist
DESCRIPTION:
URL:https://stnicholasmtl.com/event/divine-liturgy-feast-of-the-beheading-of-st-john-the-forerunner-baptist/
LOCATION:Saint Nicholas Antiochian Orthodox Church\, 80 Rue de Castelnau E\, Montreal\, QC\, H2R 1P2\, Canada
END:VEVENT
END:VCALENDAR