BEGIN:VCALENDAR
VERSION:2.0
PRODID:-// - ECPv6.15.18//NONSGML v1.0//EN
CALSCALE:GREGORIAN
METHOD:PUBLISH
X-ORIGINAL-URL:https://stnicholasmtl.com
X-WR-CALDESC:Events for 
REFRESH-INTERVAL;VALUE=DURATION:PT1H
X-Robots-Tag:noindex
X-PUBLISHED-TTL:PT1H
BEGIN:VTIMEZONE
TZID:America/New_York
BEGIN:DAYLIGHT
TZOFFSETFROM:-0500
TZOFFSETTO:-0400
TZNAME:EDT
DTSTART:20220313T070000
END:DAYLIGHT
BEGIN:STANDARD
TZOFFSETFROM:-0400
TZOFFSETTO:-0500
TZNAME:EST
DTSTART:20221106T060000
END:STANDARD
BEGIN:DAYLIGHT
TZOFFSETFROM:-0500
TZOFFSETTO:-0400
TZNAME:EDT
DTSTART:20230312T070000
END:DAYLIGHT
BEGIN:STANDARD
TZOFFSETFROM:-0400
TZOFFSETTO:-0500
TZNAME:EST
DTSTART:20231105T060000
END:STANDARD
BEGIN:DAYLIGHT
TZOFFSETFROM:-0500
TZOFFSETTO:-0400
TZNAME:EDT
DTSTART:20240310T070000
END:DAYLIGHT
BEGIN:STANDARD
TZOFFSETFROM:-0400
TZOFFSETTO:-0500
TZNAME:EST
DTSTART:20241103T060000
END:STANDARD
BEGIN:DAYLIGHT
TZOFFSETFROM:-0500
TZOFFSETTO:-0400
TZNAME:EDT
DTSTART:20250309T070000
END:DAYLIGHT
BEGIN:STANDARD
TZOFFSETFROM:-0400
TZOFFSETTO:-0500
TZNAME:EST
DTSTART:20251102T060000
END:STANDARD
END:VTIMEZONE
BEGIN:VEVENT
DTSTART;TZID=America/New_York:20240121T090000
DTEND;TZID=America/New_York:20240121T090000
DTSTAMP:20260424T062816
CREATED:20240107T030628Z
LAST-MODIFIED:20240107T030628Z
UID:4411-1705827600-1705827600@stnicholasmtl.com
SUMMARY:Orthros & D. Liturgy
DESCRIPTION:
URL:https://stnicholasmtl.com/event/orthros-d-liturgy-10/
LOCATION:Saint Nicholas Antiochian Orthodox Church\, 80 Rue de Castelnau E\, Montreal\, QC\, H2R 1P2\, Canada
END:VEVENT
BEGIN:VEVENT
DTSTART;TZID=America/New_York:20240120T180000
DTEND;TZID=America/New_York:20240120T180000
DTSTAMP:20260424T062816
CREATED:20240107T030238Z
LAST-MODIFIED:20240107T030356Z
UID:4399-1705773600-1705773600@stnicholasmtl.com
SUMMARY:Vespers
DESCRIPTION:
URL:https://stnicholasmtl.com/event/vespers-6pm-3/
LOCATION:Saint Nicholas Antiochian Orthodox Church\, 80 Rue de Castelnau E\, Montreal\, QC\, H2R 1P2\, Canada
END:VEVENT
BEGIN:VEVENT
DTSTART;TZID=America/New_York:20240114T090000
DTEND;TZID=America/New_York:20240114T090000
DTSTAMP:20260424T062816
CREATED:20240107T030554Z
LAST-MODIFIED:20240107T030554Z
UID:4409-1705222800-1705222800@stnicholasmtl.com
SUMMARY:Orthros & D. Liturgy
DESCRIPTION:
URL:https://stnicholasmtl.com/event/orthros-d-liturgy-9/
LOCATION:Saint Nicholas Antiochian Orthodox Church\, 80 Rue de Castelnau E\, Montreal\, QC\, H2R 1P2\, Canada
END:VEVENT
BEGIN:VEVENT
DTSTART;TZID=America/New_York:20240113T180000
DTEND;TZID=America/New_York:20240113T180000
DTSTAMP:20260424T062816
CREATED:20240107T030209Z
LAST-MODIFIED:20240107T030415Z
UID:4397-1705168800-1705168800@stnicholasmtl.com
SUMMARY:Vespers
DESCRIPTION:
URL:https://stnicholasmtl.com/event/vespers-6pm-2/
LOCATION:Saint Nicholas Antiochian Orthodox Church\, 80 Rue de Castelnau E\, Montreal\, QC\, H2R 1P2\, Canada
END:VEVENT
BEGIN:VEVENT
DTSTART;TZID=America/New_York:20240107T090000
DTEND;TZID=America/New_York:20240107T090000
DTSTAMP:20260424T062816
CREATED:20240107T030521Z
LAST-MODIFIED:20240107T030521Z
UID:4407-1704618000-1704618000@stnicholasmtl.com
SUMMARY:Orthros & D. Liturgy
DESCRIPTION:
URL:https://stnicholasmtl.com/event/orthros-d-liturgy-8/
LOCATION:Saint Nicholas Antiochian Orthodox Church\, 80 Rue de Castelnau E\, Montreal\, QC\, H2R 1P2\, Canada
END:VEVENT
BEGIN:VEVENT
DTSTART;TZID=America/New_York:20240106T180000
DTEND;TZID=America/New_York:20240106T180000
DTSTAMP:20260424T062816
CREATED:20240107T030116Z
LAST-MODIFIED:20240107T030424Z
UID:4395-1704564000-1704564000@stnicholasmtl.com
SUMMARY:Vespers
DESCRIPTION:
URL:https://stnicholasmtl.com/event/vespers-6pm/
LOCATION:Saint Nicholas Antiochian Orthodox Church\, 80 Rue de Castelnau E\, Montreal\, QC\, H2R 1P2\, Canada
END:VEVENT
BEGIN:VEVENT
DTSTART;TZID=America/New_York:20240106T090000
DTEND;TZID=America/New_York:20240106T090000
DTSTAMP:20260424T062816
CREATED:20240107T030020Z
LAST-MODIFIED:20240107T030020Z
UID:4393-1704531600-1704531600@stnicholasmtl.com
SUMMARY:Orthros & Divine Liturgy & Blessing Water for Theophany Feast
DESCRIPTION:
URL:https://stnicholasmtl.com/event/orthros-divine-liturgy-blessing-water-for-theophany-feast/
LOCATION:Saint Nicholas Antiochian Orthodox Church\, 80 Rue de Castelnau E\, Montreal\, QC\, H2R 1P2\, Canada
END:VEVENT
BEGIN:VEVENT
DTSTART;TZID=America/New_York:20240105T090000
DTEND;TZID=America/New_York:20240105T090000
DTSTAMP:20260424T062816
CREATED:20240107T025911Z
LAST-MODIFIED:20240107T025911Z
UID:4391-1704445200-1704445200@stnicholasmtl.com
SUMMARY:Royal Hours & Divine Liturgy for Theophany Paramon
DESCRIPTION:
URL:https://stnicholasmtl.com/event/royal-hours-divine-liturgy-for-theophany-paramon/
LOCATION:QC
END:VEVENT
BEGIN:VEVENT
DTSTART;TZID=America/New_York:20231230T180000
DTEND;TZID=America/New_York:20231230T180000
DTSTAMP:20260424T062816
CREATED:20231208T153546Z
LAST-MODIFIED:20231208T153546Z
UID:4233-1703959200-1703959200@stnicholasmtl.com
SUMMARY:Vespers & Compline
DESCRIPTION:
URL:https://stnicholasmtl.com/event/vespers-compline-25/
LOCATION:Saint Nicholas Antiochian Orthodox Church\, 80 Rue de Castelnau E\, Montreal\, QC\, H2R 1P2\, Canada
END:VEVENT
BEGIN:VEVENT
DTSTART;TZID=America/New_York:20231229T200000
DTEND;TZID=America/New_York:20231229T200000
DTSTAMP:20260424T062816
CREATED:20231112T032512Z
LAST-MODIFIED:20231203T212729Z
UID:4051-1703880000-1703880000@stnicholasmtl.com
SUMMARY:Christmas Party - Friday December 29
DESCRIPTION:$35 / Adult\n$15 / Student \nBook your ticket before December 10th. \nMeena (438) 398 8787\nAntoine (514) 974 2024
URL:https://stnicholasmtl.com/event/christmas-party-friday-december-29/
LOCATION:Saint Nicholas Antiochian Orthodox Church\, 80 Rue de Castelnau E\, Montreal\, QC\, H2R 1P2\, Canada
END:VEVENT
BEGIN:VEVENT
DTSTART;TZID=America/New_York:20231225T090000
DTEND;TZID=America/New_York:20231225T090000
DTSTAMP:20260424T062816
CREATED:20231208T154022Z
LAST-MODIFIED:20231208T154033Z
UID:4241-1703494800-1703494800@stnicholasmtl.com
SUMMARY:Orthros & Divine Liturgy for the Nativity
DESCRIPTION:
URL:https://stnicholasmtl.com/event/orthros-divine-liturgy-for-the-nativity/
LOCATION:Saint Nicholas Antiochian Orthodox Church\, 80 Rue de Castelnau E\, Montreal\, QC\, H2R 1P2\, Canada
END:VEVENT
BEGIN:VEVENT
DTSTART;TZID=America/New_York:20231224T180000
DTEND;TZID=America/New_York:20231224T180000
DTSTAMP:20260424T062816
CREATED:20231208T153949Z
LAST-MODIFIED:20231208T153949Z
UID:4239-1703440800-1703440800@stnicholasmtl.com
SUMMARY:Vespers & Artoklasia for the Nativity
DESCRIPTION:
URL:https://stnicholasmtl.com/event/vespers-artoklasia-for-the-nativity/
LOCATION:Saint Nicholas Antiochian Orthodox Church\, 80 Rue de Castelnau E\, Montreal\, QC\, H2R 1P2\, Canada
END:VEVENT
BEGIN:VEVENT
DTSTART;TZID=America/New_York:20231224T090000
DTEND;TZID=America/New_York:20231224T090000
DTSTAMP:20260424T062816
CREATED:20231208T153217Z
LAST-MODIFIED:20231208T153237Z
UID:4221-1703408400-1703408400@stnicholasmtl.com
SUMMARY:Orthros & D. Liturgy
DESCRIPTION:
URL:https://stnicholasmtl.com/event/orthros-d-liturgy-6/
LOCATION:Saint Nicholas Antiochian Orthodox Church\, 80 Rue de Castelnau E\, Montreal\, QC\, H2R 1P2\, Canada
END:VEVENT
BEGIN:VEVENT
DTSTART;TZID=America/New_York:20231223T180000
DTEND;TZID=America/New_York:20231223T180000
DTSTAMP:20260424T062816
CREATED:20231208T153525Z
LAST-MODIFIED:20231208T153525Z
UID:4231-1703354400-1703354400@stnicholasmtl.com
SUMMARY:Vespers & Compline
DESCRIPTION:
URL:https://stnicholasmtl.com/event/vespers-compline-24/
LOCATION:Saint Nicholas Antiochian Orthodox Church\, 80 Rue de Castelnau E\, Montreal\, QC\, H2R 1P2\, Canada
END:VEVENT
BEGIN:VEVENT
DTSTART;TZID=America/New_York:20231222T090000
DTEND;TZID=America/New_York:20231222T090000
DTSTAMP:20260424T062816
CREATED:20231208T153704Z
LAST-MODIFIED:20231208T153704Z
UID:4235-1703235600-1703235600@stnicholasmtl.com
SUMMARY:Paramon (Royal Hours) for the Nativity
DESCRIPTION:
URL:https://stnicholasmtl.com/event/paramon-royal-hours-for-the-nativity/
LOCATION:Saint Nicholas Antiochian Orthodox Church\, 80 Rue de Castelnau E\, Montreal\, QC\, H2R 1P2\, Canada
END:VEVENT
BEGIN:VEVENT
DTSTART;TZID=America/New_York:20231217T120000
DTEND;TZID=America/New_York:20231217T130000
DTSTAMP:20260424T062816
CREATED:20231208T153129Z
LAST-MODIFIED:20231208T153129Z
UID:4219-1702814400-1702818000@stnicholasmtl.com
SUMMARY:Sunday School Christmas Party
DESCRIPTION:
URL:https://stnicholasmtl.com/event/sunday-school-christmas-party/
LOCATION:Saint Nicholas Antiochian Orthodox Church\, 80 Rue de Castelnau E\, Montreal\, QC\, H2R 1P2\, Canada
ORGANIZER;CN="Christian Education":MAILTO:christianedu.stnicholas.mtl@gmail.com
END:VEVENT
BEGIN:VEVENT
DTSTART;TZID=America/New_York:20231217T120000
DTEND;TZID=America/New_York:20231217T120000
DTSTAMP:20260424T062816
CREATED:20231121T155211Z
LAST-MODIFIED:20231122T033443Z
UID:4173-1702814400-1702814400@stnicholasmtl.com
SUMMARY:Christmas Bake Sale
DESCRIPTION:Assorted and Delicious homemade goods packaged just in time for Christmas!\nDecember 17th (following the Divine Liturgy) \nAlso\, pre-orders for fruit cake\, please contact the Church office at (514) 270-9788 (November 20th to December 15th)\nFruit case: 25$ (650 grams)\nPick up: Friday December 22nd from 9am-2pm \nFor more information please call:\nMarie Azakie: (514) 835-7878\nMaryan Jabbour: (514) 622-2632
URL:https://stnicholasmtl.com/event/christmas-bake-sale-2/
LOCATION:Saint Nicholas Antiochian Orthodox Church\, 80 Rue de Castelnau E\, Montreal\, QC\, H2R 1P2\, Canada
ATTACH;FMTTYPE=image/png:https://stnicholasmtl.com/wp-content/uploads/2023/11/The-Antiochian.-Women-of-Saint-Nicholas-present-e1700624248667.png
END:VEVENT
BEGIN:VEVENT
DTSTART;TZID=America/New_York:20231217T090000
DTEND;TZID=America/New_York:20231217T090000
DTSTAMP:20260424T062816
CREATED:20231208T152950Z
LAST-MODIFIED:20231208T153023Z
UID:4217-1702803600-1702803600@stnicholasmtl.com
SUMMARY:Orthros & D. Liturgy 9am
DESCRIPTION:
URL:https://stnicholasmtl.com/event/orthros-d-liturgy-9am/
LOCATION:Saint Nicholas Antiochian Orthodox Church\, 80 Rue de Castelnau E\, Montreal\, QC\, H2R 1P2\, Canada
END:VEVENT
BEGIN:VEVENT
DTSTART;TZID=America/New_York:20231216T180000
DTEND;TZID=America/New_York:20231216T180000
DTSTAMP:20260424T062816
CREATED:20231208T153503Z
LAST-MODIFIED:20231208T153503Z
UID:4229-1702749600-1702749600@stnicholasmtl.com
SUMMARY:Vespers & Compline
DESCRIPTION:
URL:https://stnicholasmtl.com/event/vespers-compline-23/
LOCATION:Saint Nicholas Antiochian Orthodox Church\, 80 Rue de Castelnau E\, Montreal\, QC\, H2R 1P2\, Canada
END:VEVENT
BEGIN:VEVENT
DTSTART;TZID=America/New_York:20231210T130000
DTEND;TZID=America/New_York:20231210T210000
DTSTAMP:20260424T062816
CREATED:20231109T020624Z
LAST-MODIFIED:20231126T044329Z
UID:4007-1702213200-1702242000@stnicholasmtl.com
SUMMARY:Christmas Bazaar
DESCRIPTION:Food\, Christmas decoration\, icons\, arts and crafts\, personalized items\, candles\, beauty products\, sweets\, clothing\, accessories\, souvenirs and more. \n*For any further information\, please send an email to: bazaar.stnicholas.mtl@gmail.com \nOr contact us (call or message) at:\n4382290584 / Samer Khouri\n5145622261 / Lydia Lawand
URL:https://stnicholasmtl.com/event/christmas-bazaar/
LOCATION:Saint Nicholas Antiochian Orthodox Church\, 80 Rue de Castelnau E\, Montreal\, QC\, H2R 1P2\, Canada
END:VEVENT
BEGIN:VEVENT
DTSTART;TZID=America/New_York:20231210T130000
DTEND;TZID=America/New_York:20231210T200000
DTSTAMP:20260424T062816
CREATED:20231121T155027Z
LAST-MODIFIED:20231121T155456Z
UID:4170-1702213200-1702238400@stnicholasmtl.com
SUMMARY:Christmas Bake Sale
DESCRIPTION:Assorted and Delicious homemade goods packaged just in time for Christmas!\nSunday\, December 10th (1pm-8pm) & Sunday\, December 17th (following the Divine Liturgy) \nAlso\, pre-orders for fruit cake\, please contact the Church office at (514) 270-9788 (November 20th to December 15th)\nFruit case: 25$ (650 grams)\nPick up: Friday December 22nd from 9am-2pm \nFor more information please call:\nMarie Azakie: (514) 835-7878\nMaryan Jabbour: (514) 622-2632
URL:https://stnicholasmtl.com/event/christmas-bake-sale/
LOCATION:Saint Nicholas Antiochian Orthodox Church\, 80 Rue de Castelnau E\, Montreal\, QC\, H2R 1P2\, Canada
ATTACH;FMTTYPE=image/png:https://stnicholasmtl.com/wp-content/uploads/2023/11/The-Antiochian.-Women-of-Saint-Nicholas-present-e1700624248667.png
END:VEVENT
BEGIN:VEVENT
DTSTART;TZID=America/New_York:20231210T120000
DTEND;TZID=America/New_York:20231210T120000
DTSTAMP:20260424T062816
CREATED:20231208T154145Z
LAST-MODIFIED:20231208T154200Z
UID:4243-1702209600-1702209600@stnicholasmtl.com
SUMMARY:Recital - After Divine Liturgy
DESCRIPTION:
URL:https://stnicholasmtl.com/event/recital-after-divine-liturgy/
LOCATION:Saint Nicholas Antiochian Orthodox Church\, 80 Rue de Castelnau E\, Montreal\, QC\, H2R 1P2\, Canada
END:VEVENT
BEGIN:VEVENT
DTSTART;TZID=America/New_York:20231210T090000
DTEND;TZID=America/New_York:20231210T090000
DTSTAMP:20260424T062816
CREATED:20231126T045646Z
LAST-MODIFIED:20231126T045646Z
UID:4200-1702198800-1702198800@stnicholasmtl.com
SUMMARY:Orthros and Divine Liturgy
DESCRIPTION:Followed by a Christmas recital in the Church presented by Sunday School & Teen SOYO
URL:https://stnicholasmtl.com/event/orthros-and-divine-liturgy-2/
LOCATION:Saint Nicholas Antiochian Orthodox Church\, 80 Rue de Castelnau E\, Montreal\, QC\, H2R 1P2\, Canada
END:VEVENT
BEGIN:VEVENT
DTSTART;TZID=America/New_York:20231206T180000
DTEND;TZID=America/New_York:20231206T180000
DTSTAMP:20260424T062816
CREATED:20231126T045041Z
LAST-MODIFIED:20231126T045041Z
UID:4196-1701885600-1701885600@stnicholasmtl.com
SUMMARY:Orthros and Divine Liturgy - The feast of St. Nicholas
DESCRIPTION:
URL:https://stnicholasmtl.com/event/orthros-and-divine-liturgy-the-feast-of-st-nicholas/
LOCATION:Saint Nicholas Antiochian Orthodox Church\, 80 Rue de Castelnau E\, Montreal\, QC\, H2R 1P2\, Canada
END:VEVENT
BEGIN:VEVENT
DTSTART;TZID=America/New_York:20231203T130000
DTEND;TZID=America/New_York:20231203T140000
DTSTAMP:20260424T062816
CREATED:20230720T161011Z
LAST-MODIFIED:20231126T045352Z
UID:3573-1701608400-1701612000@stnicholasmtl.com
SUMMARY:The Annual Raffle - Dec 3\, 2023
DESCRIPTION:To purchase tickets\, please call Rosette (514) 696-2722 or the Church office (514) 270-9788
URL:https://stnicholasmtl.com/event/saint-nicholas-raffle-dec-3-2023/
LOCATION:Saint Nicholas Antiochian Orthodox Church\, 80 Rue de Castelnau E\, Montreal\, QC\, H2R 1P2\, Canada
END:VEVENT
BEGIN:VEVENT
DTSTART;TZID=America/New_York:20231203T090000
DTEND;TZID=America/New_York:20231203T090000
DTSTAMP:20260424T062816
CREATED:20231108T023903Z
LAST-MODIFIED:20231126T045310Z
UID:4002-1701594000-1701594000@stnicholasmtl.com
SUMMARY:Orthros & D. Liturgy
DESCRIPTION:
URL:https://stnicholasmtl.com/event/orthros-d-liturgy-5/
LOCATION:QC
END:VEVENT
BEGIN:VEVENT
DTSTART;TZID=America/New_York:20231202T180000
DTEND;TZID=America/New_York:20231202T210000
DTSTAMP:20260424T062816
CREATED:20231117T140320Z
LAST-MODIFIED:20231117T161654Z
UID:4134-1701540000-1701550800@stnicholasmtl.com
SUMMARY:Saint Barbara Costume Party
DESCRIPTION:We are excited to announce that our Sunday School children will join their brothers and sisters in Saint George’s church and participate in the Saint Barbara Party\, organized by Saint George Teen SOYO\, partnering with our Teens. \nIf you have any questions or concerns\, please reach out to Marina Esper at (514) 709 0966 / Samer Khouri at (438) 229 0584\nor contact us by email: christianedu.stnicholas.mtl@gmail.com
URL:https://stnicholasmtl.com/event/saint-barbara-costume-party/
LOCATION:St George Antiochian Orthodox Church\, 555 Jean-Talon Rue E\, Montreal\, QC\, H2R1T8\, Canada
END:VEVENT
BEGIN:VEVENT
DTSTART;TZID=America/New_York:20231126T090000
DTEND;TZID=America/New_York:20231126T090000
DTSTAMP:20260424T062816
CREATED:20231104T141811Z
LAST-MODIFIED:20231108T023658Z
UID:3994-1700989200-1700989200@stnicholasmtl.com
SUMMARY:Orthros & D. Liturgy
DESCRIPTION:
URL:https://stnicholasmtl.com/event/orthros-d-liturgy-4/
LOCATION:Saint Nicholas Antiochian Orthodox Church\, 80 Rue de Castelnau E\, Montreal\, QC\, H2R 1P2\, Canada
END:VEVENT
BEGIN:VEVENT
DTSTART;TZID=America/New_York:20231125T190000
DTEND;TZID=America/New_York:20231125T230000
DTSTAMP:20260424T062816
CREATED:20231104T135638Z
LAST-MODIFIED:20231104T140407Z
UID:3979-1700938800-1700953200@stnicholasmtl.com
SUMMARY:Fellowship Night - Open to All
DESCRIPTION:
URL:https://stnicholasmtl.com/event/fellowship-night-open-to-all/
LOCATION:Saint Nicholas Antiochian Orthodox Church\, 80 Rue de Castelnau E\, Montreal\, QC\, H2R 1P2\, Canada
END:VEVENT
BEGIN:VEVENT
DTSTART;TZID=America/New_York:20231125T180000
DTEND;TZID=America/New_York:20231125T190000
DTSTAMP:20260424T062816
CREATED:20231104T142055Z
LAST-MODIFIED:20231104T142055Z
UID:4000-1700935200-1700938800@stnicholasmtl.com
SUMMARY:Vespers & Compline
DESCRIPTION:
URL:https://stnicholasmtl.com/event/vespers-compline-20/
LOCATION:Saint Nicholas Antiochian Orthodox Church\, 80 Rue de Castelnau E\, Montreal\, QC\, H2R 1P2\, Canada
END:VEVENT
END:VCALENDAR