BEGIN:VCALENDAR
VERSION:2.0
PRODID:-// - ECPv6.15.18//NONSGML v1.0//EN
CALSCALE:GREGORIAN
METHOD:PUBLISH
X-ORIGINAL-URL:https://stnicholasmtl.com
X-WR-CALDESC:Events for 
REFRESH-INTERVAL;VALUE=DURATION:PT1H
X-Robots-Tag:noindex
X-PUBLISHED-TTL:PT1H
BEGIN:VTIMEZONE
TZID:America/New_York
BEGIN:DAYLIGHT
TZOFFSETFROM:-0500
TZOFFSETTO:-0400
TZNAME:EDT
DTSTART:20230312T070000
END:DAYLIGHT
BEGIN:STANDARD
TZOFFSETFROM:-0400
TZOFFSETTO:-0500
TZNAME:EST
DTSTART:20231105T060000
END:STANDARD
BEGIN:DAYLIGHT
TZOFFSETFROM:-0500
TZOFFSETTO:-0400
TZNAME:EDT
DTSTART:20240310T070000
END:DAYLIGHT
BEGIN:STANDARD
TZOFFSETFROM:-0400
TZOFFSETTO:-0500
TZNAME:EST
DTSTART:20241103T060000
END:STANDARD
BEGIN:DAYLIGHT
TZOFFSETFROM:-0500
TZOFFSETTO:-0400
TZNAME:EDT
DTSTART:20250309T070000
END:DAYLIGHT
BEGIN:STANDARD
TZOFFSETFROM:-0400
TZOFFSETTO:-0500
TZNAME:EST
DTSTART:20251102T060000
END:STANDARD
END:VTIMEZONE
BEGIN:VEVENT
DTSTART;TZID=America/New_York:20240322T190000
DTEND;TZID=America/New_York:20240322T190000
DTSTAMP:20260424T034552
CREATED:20240316T230025Z
LAST-MODIFIED:20240330T160022Z
UID:4636-1711134000-1711134000@stnicholasmtl.com
SUMMARY:1st Akathist 6pm
DESCRIPTION:
URL:https://stnicholasmtl.com/event/1st-akathist-6pm/
LOCATION:Saint Nicholas Antiochian Orthodox Church\, 80 Rue de Castelnau E\, Montreal\, QC\, H2R 1P2\, Canada
END:VEVENT
BEGIN:VEVENT
DTSTART;TZID=America/New_York:20240321T190000
DTEND;TZID=America/New_York:20240321T190000
DTSTAMP:20260424T034552
CREATED:20240316T230000Z
LAST-MODIFIED:20240330T160027Z
UID:4632-1711047600-1711047600@stnicholasmtl.com
SUMMARY:Great Compline 6pm
DESCRIPTION:
URL:https://stnicholasmtl.com/event/great-compline-6pm/
LOCATION:Saint Nicholas Antiochian Orthodox Church\, 80 Rue de Castelnau E\, Montreal\, QC\, H2R 1P2\, Canada
END:VEVENT
BEGIN:VEVENT
DTSTART;TZID=America/New_York:20240320T190000
DTEND;TZID=America/New_York:20240320T190000
DTSTAMP:20260424T034552
CREATED:20240316T230003Z
LAST-MODIFIED:20240330T155940Z
UID:4628-1710961200-1710961200@stnicholasmtl.com
SUMMARY:Presanctified D. Liturgy 6pm
DESCRIPTION:
URL:https://stnicholasmtl.com/event/presanctified-d-liturgy-6pm/
LOCATION:Saint Nicholas Antiochian Orthodox Church\, 80 Rue de Castelnau E\, Montreal\, QC\, H2R 1P2\, Canada
END:VEVENT
BEGIN:VEVENT
DTSTART;TZID=America/New_York:20240317T090000
DTEND;TZID=America/New_York:20240317T090000
DTSTAMP:20260424T034552
CREATED:20240316T142225Z
LAST-MODIFIED:20240316T142228Z
UID:4626-1710666000-1710666000@stnicholasmtl.com
SUMMARY:Orthros & D. Liturgy 9am
DESCRIPTION:
URL:https://stnicholasmtl.com/event/orthros-d-liturgy-9am-9/
LOCATION:Saint Nicholas Antiochian Orthodox Church\, 80 Rue de Castelnau E\, Montreal\, QC\, H2R 1P2\, Canada
END:VEVENT
BEGIN:VEVENT
DTSTART;TZID=America/New_York:20240316T180000
DTEND;TZID=America/New_York:20240316T180000
DTSTAMP:20260424T034552
CREATED:20240316T141516Z
LAST-MODIFIED:20240316T141516Z
UID:4606-1710612000-1710612000@stnicholasmtl.com
SUMMARY:Vespers
DESCRIPTION:
URL:https://stnicholasmtl.com/event/vespers-8/
LOCATION:Saint Nicholas Antiochian Orthodox Church\, 80 Rue de Castelnau E\, Montreal\, QC\, H2R 1P2\, Canada
END:VEVENT
BEGIN:VEVENT
DTSTART;TZID=America/New_York:20240310T120000
DTEND;TZID=America/New_York:20240310T120000
DTSTAMP:20260424T034552
CREATED:20240224T194109Z
LAST-MODIFIED:20240224T194348Z
UID:4582-1710072000-1710072000@stnicholasmtl.com
SUMMARY:Meatfare Luncheon
DESCRIPTION:Pulled Beef\, Chicken Wings and More!\n30$/Plate\nRSVP Deadline March 3\nContact Kathia Lawand 438-501-1799
URL:https://stnicholasmtl.com/event/meat-fare-luncheon/
LOCATION:Saint Nicholas Antiochian Orthodox Church\, 80 Rue de Castelnau E\, Montreal\, QC\, H2R 1P2\, Canada
END:VEVENT
BEGIN:VEVENT
DTSTART;TZID=America/New_York:20240310T090000
DTEND;TZID=America/New_York:20240310T090000
DTSTAMP:20260424T034552
CREATED:20240316T142109Z
LAST-MODIFIED:20240316T142113Z
UID:4622-1710061200-1710061200@stnicholasmtl.com
SUMMARY:Orthros & D. Liturgy 9am
DESCRIPTION:
URL:https://stnicholasmtl.com/event/orthros-d-liturgy-9am-7/
LOCATION:Saint Nicholas Antiochian Orthodox Church\, 80 Rue de Castelnau E\, Montreal\, QC\, H2R 1P2\, Canada
END:VEVENT
BEGIN:VEVENT
DTSTART;TZID=America/New_York:20240309T180000
DTEND;TZID=America/New_York:20240309T180000
DTSTAMP:20260424T034552
CREATED:20240316T141454Z
LAST-MODIFIED:20240316T141454Z
UID:4604-1710007200-1710007200@stnicholasmtl.com
SUMMARY:Vespers
DESCRIPTION:
URL:https://stnicholasmtl.com/event/vespers-7/
LOCATION:Saint Nicholas Antiochian Orthodox Church\, 80 Rue de Castelnau E\, Montreal\, QC\, H2R 1P2\, Canada
END:VEVENT
BEGIN:VEVENT
DTSTART;TZID=America/New_York:20240303T090000
DTEND;TZID=America/New_York:20240303T090000
DTSTAMP:20260424T034552
CREATED:20240316T141748Z
LAST-MODIFIED:20240316T141748Z
UID:4612-1709456400-1709456400@stnicholasmtl.com
SUMMARY:Orthros & D. Liturgy 9am
DESCRIPTION:
URL:https://stnicholasmtl.com/event/orthros-d-liturgy-9am-2/
LOCATION:Saint Nicholas Antiochian Orthodox Church\, 80 Rue de Castelnau E\, Montreal\, QC\, H2R 1P2\, Canada
END:VEVENT
BEGIN:VEVENT
DTSTART;TZID=America/New_York:20240302T180000
DTEND;TZID=America/New_York:20240302T180000
DTSTAMP:20260424T034552
CREATED:20240316T141424Z
LAST-MODIFIED:20240316T141424Z
UID:4602-1709402400-1709402400@stnicholasmtl.com
SUMMARY:Vespers
DESCRIPTION:
URL:https://stnicholasmtl.com/event/vespers-6/
LOCATION:Saint Nicholas Antiochian Orthodox Church\, 80 Rue de Castelnau E\, Montreal\, QC\, H2R 1P2\, Canada
END:VEVENT
BEGIN:VEVENT
DTSTART;TZID=America/New_York:20240225T090000
DTEND;TZID=America/New_York:20240225T090000
DTSTAMP:20260424T034552
CREATED:20240201T204502Z
LAST-MODIFIED:20240201T204528Z
UID:4526-1708851600-1708851600@stnicholasmtl.com
SUMMARY:Orthros & Divine Liturgy
DESCRIPTION:
URL:https://stnicholasmtl.com/event/orthros-divine-liturgy-11/
LOCATION:Saint Nicholas Antiochian Orthodox Church\, 80 Rue de Castelnau E\, Montreal\, QC\, H2R 1P2\, Canada
END:VEVENT
BEGIN:VEVENT
DTSTART;TZID=America/New_York:20240224T190000
DTEND;TZID=America/New_York:20240224T230000
DTSTAMP:20260424T034552
CREATED:20240219T194902Z
LAST-MODIFIED:20240219T195220Z
UID:4553-1708801200-1708815600@stnicholasmtl.com
SUMMARY:Fellowship Night
DESCRIPTION:
URL:https://stnicholasmtl.com/event/fellowship-night-2/
LOCATION:Saint Nicholas Antiochian Orthodox Church\, 80 Rue de Castelnau E\, Montreal\, QC\, H2R 1P2\, Canada
END:VEVENT
BEGIN:VEVENT
DTSTART;TZID=America/New_York:20240224T180000
DTEND;TZID=America/New_York:20240224T180000
DTSTAMP:20260424T034552
CREATED:20240201T204227Z
LAST-MODIFIED:20240201T204227Z
UID:4518-1708797600-1708797600@stnicholasmtl.com
SUMMARY:Vespers
DESCRIPTION:
URL:https://stnicholasmtl.com/event/vespers-5/
LOCATION:Saint Nicholas Antiochian Orthodox Church\, 80 Rue de Castelnau E\, Montreal\, QC\, H2R 1P2\, Canada
END:VEVENT
BEGIN:VEVENT
DTSTART;TZID=America/New_York:20240218T090000
DTEND;TZID=America/New_York:20240218T090000
DTSTAMP:20260424T034552
CREATED:20240201T204630Z
LAST-MODIFIED:20240201T204648Z
UID:4528-1708246800-1708246800@stnicholasmtl.com
SUMMARY:Orthros & Divine Liturgy
DESCRIPTION:
URL:https://stnicholasmtl.com/event/orthros-divine-liturgy-12/
LOCATION:Saint Nicholas Antiochian Orthodox Church\, 80 Rue de Castelnau E\, Montreal\, QC\, H2R 1P2\, Canada
END:VEVENT
BEGIN:VEVENT
DTSTART;TZID=America/New_York:20240217T180000
DTEND;TZID=America/New_York:20240217T180000
DTSTAMP:20260424T034552
CREATED:20240201T204157Z
LAST-MODIFIED:20240201T204157Z
UID:4516-1708192800-1708192800@stnicholasmtl.com
SUMMARY:Vespers
DESCRIPTION:
URL:https://stnicholasmtl.com/event/vespers-4/
LOCATION:Saint Nicholas Antiochian Orthodox Church\, 80 Rue de Castelnau E\, Montreal\, QC\, H2R 1P2\, Canada
END:VEVENT
BEGIN:VEVENT
DTSTART;TZID=America/New_York:20240211T120000
DTEND;TZID=America/New_York:20240211T120000
DTSTAMP:20260424T034552
CREATED:20240202T201655Z
LAST-MODIFIED:20240202T202342Z
UID:4538-1707652800-1707652800@stnicholasmtl.com
SUMMARY:Valentine's Day Bake Sale by Teen SOYO
DESCRIPTION:Following the Divine Liturgy in the Church hall (Cash Only)
URL:https://stnicholasmtl.com/event/valentines-day-bake-sale-by-teen-soyo/
LOCATION:Saint Nicholas Antiochian Orthodox Church\, 80 Rue de Castelnau E\, Montreal\, QC\, H2R 1P2\, Canada
ATTACH;FMTTYPE=image/jpeg:https://stnicholasmtl.com/wp-content/uploads/2024/02/d8b70827-086f-41b2-a59c-38cf4476cbff-e1706905125523.jpg
END:VEVENT
BEGIN:VEVENT
DTSTART;TZID=America/New_York:20240211T090000
DTEND;TZID=America/New_York:20240211T090000
DTSTAMP:20260424T034552
CREATED:20240201T204722Z
LAST-MODIFIED:20240201T204726Z
UID:4530-1707642000-1707642000@stnicholasmtl.com
SUMMARY:Orthros & Divine Liturgy
DESCRIPTION:
URL:https://stnicholasmtl.com/event/orthros-divine-liturgy-13/
LOCATION:Saint Nicholas Antiochian Orthodox Church\, 80 Rue de Castelnau E\, Montreal\, QC\, H2R 1P2\, Canada
END:VEVENT
BEGIN:VEVENT
DTSTART;TZID=America/New_York:20240210T180000
DTEND;TZID=America/New_York:20240210T180000
DTSTAMP:20260424T034552
CREATED:20240201T204129Z
LAST-MODIFIED:20240201T204129Z
UID:4514-1707588000-1707588000@stnicholasmtl.com
SUMMARY:Vespers
DESCRIPTION:
URL:https://stnicholasmtl.com/event/vespers-3/
LOCATION:Saint Nicholas Antiochian Orthodox Church\, 80 Rue de Castelnau E\, Montreal\, QC\, H2R 1P2\, Canada
END:VEVENT
BEGIN:VEVENT
DTSTART;TZID=America/New_York:20240204T090000
DTEND;TZID=America/New_York:20240204T090000
DTSTAMP:20260424T034552
CREATED:20240201T204754Z
LAST-MODIFIED:20240201T204757Z
UID:4532-1707037200-1707037200@stnicholasmtl.com
SUMMARY:Orthros & Divine Liturgy
DESCRIPTION:
URL:https://stnicholasmtl.com/event/orthros-divine-liturgy-14/
LOCATION:Saint Nicholas Antiochian Orthodox Church\, 80 Rue de Castelnau E\, Montreal\, QC\, H2R 1P2\, Canada
END:VEVENT
BEGIN:VEVENT
DTSTART;TZID=America/New_York:20240203T180000
DTEND;TZID=America/New_York:20240203T180000
DTSTAMP:20260424T034552
CREATED:20240201T204004Z
LAST-MODIFIED:20240201T204100Z
UID:4511-1706983200-1706983200@stnicholasmtl.com
SUMMARY:Vespers
DESCRIPTION:
URL:https://stnicholasmtl.com/event/vespers-2/
LOCATION:Saint Nicholas Antiochian Orthodox Church\, 80 Rue de Castelnau E\, Montreal\, QC\, H2R 1P2\, Canada
END:VEVENT
BEGIN:VEVENT
DTSTART;TZID=America/New_York:20240201T190000
DTEND;TZID=America/New_York:20240201T190000
DTSTAMP:20260424T034552
CREATED:20240201T203840Z
LAST-MODIFIED:20240201T203840Z
UID:4509-1706814000-1706814000@stnicholasmtl.com
SUMMARY:Divine Liturgy - Feast of the Presentation of the Lord
DESCRIPTION:
URL:https://stnicholasmtl.com/event/divine-liturgy-feast-of-the-presentation-of-the-lord/
LOCATION:Saint Nicholas Antiochian Orthodox Church\, 80 Rue de Castelnau E\, Montreal\, QC\, H2R 1P2\, Canada
END:VEVENT
BEGIN:VEVENT
DTSTART;TZID=America/New_York:20240128T090000
DTEND;TZID=America/New_York:20240128T090000
DTSTAMP:20260424T034552
CREATED:20240107T030703Z
LAST-MODIFIED:20240107T030703Z
UID:4413-1706432400-1706432400@stnicholasmtl.com
SUMMARY:Orthros & D. Liturgy
DESCRIPTION:
URL:https://stnicholasmtl.com/event/orthros-d-liturgy-11/
LOCATION:Saint Nicholas Antiochian Orthodox Church\, 80 Rue de Castelnau E\, Montreal\, QC\, H2R 1P2\, Canada
END:VEVENT
BEGIN:VEVENT
DTSTART;TZID=America/New_York:20240127T190000
DTEND;TZID=America/New_York:20240127T230000
DTSTAMP:20260424T034552
CREATED:20240124T012155Z
LAST-MODIFIED:20240124T012937Z
UID:4437-1706382000-1706396400@stnicholasmtl.com
SUMMARY:Fellowship Night
DESCRIPTION:
URL:https://stnicholasmtl.com/event/fellowship-night/
LOCATION:Saint Nicholas Antiochian Orthodox Church\, 80 Rue de Castelnau E\, Montreal\, QC\, H2R 1P2\, Canada
END:VEVENT
BEGIN:VEVENT
DTSTART;TZID=America/New_York:20240127T180000
DTEND;TZID=America/New_York:20240127T180000
DTSTAMP:20260424T034552
CREATED:20240107T030311Z
LAST-MODIFIED:20240107T030337Z
UID:4401-1706378400-1706378400@stnicholasmtl.com
SUMMARY:Vespers
DESCRIPTION:
URL:https://stnicholasmtl.com/event/vespers-6pm-4/
LOCATION:Saint Nicholas Antiochian Orthodox Church\, 80 Rue de Castelnau E\, Montreal\, QC\, H2R 1P2\, Canada
END:VEVENT
BEGIN:VEVENT
DTSTART;TZID=America/New_York:20240121T090000
DTEND;TZID=America/New_York:20240121T090000
DTSTAMP:20260424T034552
CREATED:20240107T030628Z
LAST-MODIFIED:20240107T030628Z
UID:4411-1705827600-1705827600@stnicholasmtl.com
SUMMARY:Orthros & D. Liturgy
DESCRIPTION:
URL:https://stnicholasmtl.com/event/orthros-d-liturgy-10/
LOCATION:Saint Nicholas Antiochian Orthodox Church\, 80 Rue de Castelnau E\, Montreal\, QC\, H2R 1P2\, Canada
END:VEVENT
BEGIN:VEVENT
DTSTART;TZID=America/New_York:20240120T180000
DTEND;TZID=America/New_York:20240120T180000
DTSTAMP:20260424T034552
CREATED:20240107T030238Z
LAST-MODIFIED:20240107T030356Z
UID:4399-1705773600-1705773600@stnicholasmtl.com
SUMMARY:Vespers
DESCRIPTION:
URL:https://stnicholasmtl.com/event/vespers-6pm-3/
LOCATION:Saint Nicholas Antiochian Orthodox Church\, 80 Rue de Castelnau E\, Montreal\, QC\, H2R 1P2\, Canada
END:VEVENT
BEGIN:VEVENT
DTSTART;TZID=America/New_York:20240114T090000
DTEND;TZID=America/New_York:20240114T090000
DTSTAMP:20260424T034552
CREATED:20240107T030554Z
LAST-MODIFIED:20240107T030554Z
UID:4409-1705222800-1705222800@stnicholasmtl.com
SUMMARY:Orthros & D. Liturgy
DESCRIPTION:
URL:https://stnicholasmtl.com/event/orthros-d-liturgy-9/
LOCATION:Saint Nicholas Antiochian Orthodox Church\, 80 Rue de Castelnau E\, Montreal\, QC\, H2R 1P2\, Canada
END:VEVENT
BEGIN:VEVENT
DTSTART;TZID=America/New_York:20240113T180000
DTEND;TZID=America/New_York:20240113T180000
DTSTAMP:20260424T034552
CREATED:20240107T030209Z
LAST-MODIFIED:20240107T030415Z
UID:4397-1705168800-1705168800@stnicholasmtl.com
SUMMARY:Vespers
DESCRIPTION:
URL:https://stnicholasmtl.com/event/vespers-6pm-2/
LOCATION:Saint Nicholas Antiochian Orthodox Church\, 80 Rue de Castelnau E\, Montreal\, QC\, H2R 1P2\, Canada
END:VEVENT
BEGIN:VEVENT
DTSTART;TZID=America/New_York:20240107T090000
DTEND;TZID=America/New_York:20240107T090000
DTSTAMP:20260424T034552
CREATED:20240107T030521Z
LAST-MODIFIED:20240107T030521Z
UID:4407-1704618000-1704618000@stnicholasmtl.com
SUMMARY:Orthros & D. Liturgy
DESCRIPTION:
URL:https://stnicholasmtl.com/event/orthros-d-liturgy-8/
LOCATION:Saint Nicholas Antiochian Orthodox Church\, 80 Rue de Castelnau E\, Montreal\, QC\, H2R 1P2\, Canada
END:VEVENT
BEGIN:VEVENT
DTSTART;TZID=America/New_York:20240106T180000
DTEND;TZID=America/New_York:20240106T180000
DTSTAMP:20260424T034552
CREATED:20240107T030116Z
LAST-MODIFIED:20240107T030424Z
UID:4395-1704564000-1704564000@stnicholasmtl.com
SUMMARY:Vespers
DESCRIPTION:
URL:https://stnicholasmtl.com/event/vespers-6pm/
LOCATION:Saint Nicholas Antiochian Orthodox Church\, 80 Rue de Castelnau E\, Montreal\, QC\, H2R 1P2\, Canada
END:VEVENT
END:VCALENDAR